BEGIN:VCALENDAR
VERSION:2.0
PRODID:-//ChamberMaster//Event Calendar 2.0//EN
METHOD:PUBLISH
X-PUBLISHED-TTL:P3D
REFRESH-INTERVAL:P3D
CALSCALE:GREGORIAN
BEGIN:VEVENT
DTSTART:20191106T153000Z
DTEND:20191106T160000Z
X-MICROSOFT-CDO-ALLDAYEVENT:FALSE
SUMMARY:Ribbon Cutting for Colorize
DESCRIPTION:Colorize\, a locally owned Benjamin Moore paint store\, has opened a location in Queensbury\, NY. Join us for a ribbon cutting ceremony\, as we welcome them into the community!
X-ALT-DESC;FMTTYPE=text/html:Colorize\, a locally owned Benjamin Moore paint store\, has opened a location in Queensbury\, NY. Join us for a ribbon cutting ceremony\, as we welcome them into the community!
LOCATION:Colorize 63 Quaker Road Queensbury\, NY 12804
UID:e.1842.3879
SEQUENCE:3
DTSTAMP:20260422T035349Z
URL:http://business.adirondackchamber.org/events/details/ribbon-cutting-for-colorize-3879
END:VEVENT

END:VCALENDAR
