BEGIN:VCALENDAR
VERSION:2.0
PRODID:-//ChamberMaster//Event Calendar 2.0//EN
METHOD:PUBLISH
X-PUBLISHED-TTL:P3D
REFRESH-INTERVAL:P3D
CALSCALE:GREGORIAN
BEGIN:VEVENT
DTSTART:20220817T133000Z
DTEND:20220817T140000Z
X-MICROSOFT-CDO-ALLDAYEVENT:FALSE
SUMMARY:Ribbon Cutting for COBRA Self Defense - Saratoga
DESCRIPTION:Owner Jared Murphy has recently secured some space at a local fitness center and is celebrating the start of his COBRA Self Defense classes. Join us for a ribbon cutting!
X-ALT-DESC;FMTTYPE=text/html:Owner Jared Murphy has recently secured some space at a local fitness center and is celebrating the start of his COBRA Self Defense classes. Join us for a ribbon cutting!
LOCATION:Go-for-Fitness 160 Saratoga Avenue South Glens Falls\, NY 12803
UID:e.1842.4253
SEQUENCE:3
DTSTAMP:20260419T220549Z
URL:http://business.adirondackchamber.org/events/details/ribbon-cutting-for-cobra-self-defense-saratoga-4253
END:VEVENT

END:VCALENDAR
