BEGIN:VCALENDAR
VERSION:2.0
PRODID:-//ChamberMaster//Event Calendar 2.0//EN
METHOD:PUBLISH
X-PUBLISHED-TTL:P3D
REFRESH-INTERVAL:P3D
CALSCALE:GREGORIAN
BEGIN:VEVENT
DTSTART:20200305T150000Z
DTEND:20200305T160000Z
X-MICROSOFT-CDO-ALLDAYEVENT:FALSE
SUMMARY:Ribbon Cutting for Clothing Room and Extended Shelter at Open Door Mission
DESCRIPTION:Join the ARCC for a ribbon cutting ceremony to celebrate the opening of their new clothing room and extended shelter.\n\n\n\nAbout The Open Door Mission\n\nThe Open Door is a Christian ministry dedicated to reaching out and serving the needs of the poor and homeless of our community. One major way we accomplish this is by offering services in a friendly\, welcoming environment and developing a relationship with our guests so we can walk beside them until they are stable. We offer this care to all people\, regardless of race\, gender\, sexual orientation\, national origin\, creed\, or religion. All of our services and programs are provided free of charge.
X-ALT-DESC;FMTTYPE=text/html:Join the ARCC for a ribbon cutting ceremony to celebrate the opening of their new clothing room and extended shelter.<br />\n<br />\n<u><strong>About The Open Door Mission</strong></u><br />\nThe Open Door is a Christian ministry dedicated to reaching out and serving the needs of the poor and homeless of our community. One major way we accomplish this is by offering services in a friendly\, welcoming environment and developing a relationship with our guests so we can walk beside them until they are stable. We offer this care to all people\, regardless of race\, gender\, sexual orientation\, national origin\, creed\, or religion. All of our services and programs are provided free of charge.<br />\n&nbsp\;
LOCATION:The Open Door Mission 226 Warren Street Glens Falls\, NY 12801
UID:e.1842.3919
SEQUENCE:3
DTSTAMP:20260421T225259Z
URL:http://business.adirondackchamber.org/events/details/ribbon-cutting-for-clothing-room-and-extended-shelter-at-open-door-mission-3919
END:VEVENT

END:VCALENDAR
