BEGIN:VCALENDAR
VERSION:2.0
PRODID:-//ChamberMaster//Event Calendar 2.0//EN
METHOD:PUBLISH
X-PUBLISHED-TTL:P3D
REFRESH-INTERVAL:P3D
CALSCALE:GREGORIAN
BEGIN:VEVENT
DTSTART:20220422T190000Z
DTEND:20220422T200000Z
X-MICROSOFT-CDO-ALLDAYEVENT:FALSE
SUMMARY:Ribbon Cutting for CDL Associates Insurance Agency LLC
DESCRIPTION:CDL Associates Insurance Agency has opened their new location in Glens Falls. Join us for the grand opening!\n\n\n\nCDL Associates specialize in insurance for the transportation industry\, but they also offer a variety of insurance coverages to help you meet your business\, personal\, and employee benefits needs.
X-ALT-DESC;FMTTYPE=text/html:CDL Associates Insurance Agency has opened their new location in Glens Falls. Join us for the grand opening!<br />\n<br />\nCDL Associates specialize in insurance for the transportation industry\, but they also offer a variety of insurance coverages to help you meet your business\, personal\, and employee benefits needs.<br />\n&nbsp\;
LOCATION:CDL Associates Insurance Agency 130 Broad Street\, Suite 5 Glens Falls\, NY 12801
UID:e.1842.4224
SEQUENCE:3
DTSTAMP:20260420T042606Z
URL:http://business.adirondackchamber.org/events/details/ribbon-cutting-for-cdl-associates-insurance-agency-llc-4224
END:VEVENT

END:VCALENDAR
