BEGIN:VCALENDAR
VERSION:2.0
PRODID:-//ChamberMaster//Event Calendar 2.0//EN
METHOD:PUBLISH
X-PUBLISHED-TTL:P3D
REFRESH-INTERVAL:P3D
CALSCALE:GREGORIAN
BEGIN:VEVENT
DTSTART:20220913T150000Z
DTEND:20220913T160000Z
X-MICROSOFT-CDO-ALLDAYEVENT:FALSE
SUMMARY:Ribbon Cutting for Brookfield Renewable Energy U.S.
DESCRIPTION:Join the ARCC as we celebrate the grand opening of the new National Control Center for Brookfield Renewable U.S.!
X-ALT-DESC;FMTTYPE=text/html:Join the ARCC as we celebrate the grand opening of the new National Control Center for Brookfield Renewable U.S.!
LOCATION:407 Big Bay Road Queensbury NY 12804
UID:e.1842.4264
SEQUENCE:3
DTSTAMP:20260419T201901Z
URL:http://business.adirondackchamber.org/events/details/ribbon-cutting-for-brookfield-renewable-energy-u-s-4264
END:VEVENT

END:VCALENDAR
