BEGIN:VCALENDAR
VERSION:2.0
PRODID:-//ChamberMaster//Event Calendar 2.0//EN
METHOD:PUBLISH
X-PUBLISHED-TTL:P3D
REFRESH-INTERVAL:P3D
CALSCALE:GREGORIAN
BEGIN:VEVENT
DTSTART:20220503T173000Z
DTEND:20220503T183000Z
X-MICROSOFT-CDO-ALLDAYEVENT:FALSE
SUMMARY:Ribbon Cutting for Bon's Ice Cream & Adirondack Mini Golf
DESCRIPTION:Join the ARCC as we celebrate the seasonal opening of Bon's Ice Cream & Adirondack Mini Golf with a ribbon cutting!\n\n\n\nLocated in beautiful Lake Luzerne\, Bon's Ice Cream & Adirondack Mini Golf offers soft and hard ice cream\, milkshakes\, sundaes and flurries along with 18 holes of miniature golf all on a friendly setting with many picnic tables to relax at.
X-ALT-DESC;FMTTYPE=text/html:<div>Join the ARCC as we celebrate the seasonal opening of Bon&#39\;s Ice Cream &amp\; Adirondack Mini Golf with a ribbon cutting!<br />\n<br />\nLocated in beautiful Lake Luzerne\, Bon&#39\;s Ice Cream &amp\; Adirondack Mini Golf offers soft and hard ice cream\, milkshakes\, sundaes and flurries along with 18 holes of miniature golf all on a friendly setting with many picnic tables to relax at.</div>\n
LOCATION:Bon's Ice Cream & Adirondack Mini Golf 530 Lake Ave. Lake Luzerne\, NY 12846
UID:e.1842.4238
SEQUENCE:3
DTSTAMP:20260420T022609Z
URL:http://business.adirondackchamber.org/events/details/ribbon-cutting-for-bon-s-ice-cream-adirondack-mini-golf-4238
END:VEVENT

END:VCALENDAR
