BEGIN:VCALENDAR
VERSION:2.0
PRODID:-//ChamberMaster//Event Calendar 2.0//EN
METHOD:PUBLISH
X-PUBLISHED-TTL:P3D
REFRESH-INTERVAL:P3D
CALSCALE:GREGORIAN
BEGIN:VEVENT
DTSTART:20191205T153000Z
DTEND:20191205T160000Z
X-MICROSOFT-CDO-ALLDAYEVENT:FALSE
SUMMARY:Ribbon Cutting for Birch Bark Eatery
DESCRIPTION:Birch Bark Eatery has moved to downtown Glens Falls and is thrilled to begin offering new menu items. Join us for a ribbon cutting ceremony!
X-ALT-DESC;FMTTYPE=text/html:Birch Bark Eatery has moved to downtown Glens Falls and is thrilled to begin offering new menu items. Join us for a ribbon cutting ceremony!
LOCATION:Birch Bark Eatery 21 Ridge Street Glens Falls\, NY 12801
UID:e.1842.3891
SEQUENCE:3
DTSTAMP:20260422T021002Z
URL:http://business.adirondackchamber.org/events/details/ribbon-cutting-for-birch-bark-eatery-3891
END:VEVENT

END:VCALENDAR
