BEGIN:VCALENDAR
VERSION:2.0
PRODID:-//ChamberMaster//Event Calendar 2.0//EN
METHOD:PUBLISH
X-PUBLISHED-TTL:P3D
REFRESH-INTERVAL:P3D
CALSCALE:GREGORIAN
BEGIN:VEVENT
DTSTART:20210820T213000Z
DTEND:20210820T223000Z
X-MICROSOFT-CDO-ALLDAYEVENT:FALSE
SUMMARY:Ribbon Cutting for Big Brothers Big Sisters of the Southern Adirondacks
DESCRIPTION:Join the ARCC as we celebrate the new office location of Big Brothers Big Sisters of the Southern Adirondacks! BBBS is inviting the community to come together for an afternoon of fun and to rally behind our youth.
X-ALT-DESC;FMTTYPE=text/html:Join the ARCC as we celebrate the new office location of Big Brothers Big Sisters of the Southern Adirondacks! BBBS is inviting the community to come together for an afternoon of fun and to rally behind our youth.<br />\n&nbsp\;
LOCATION:Big Brothers Big Sisters of the Southern Adirondacks 1 Lawrence Street\, Suite 1B Glens Falls\, NY 12801
UID:e.1842.4129
SEQUENCE:3
DTSTAMP:20260420T165312Z
URL:http://business.adirondackchamber.org/events/details/ribbon-cutting-for-big-brothers-big-sisters-of-the-southern-adirondacks-4129
END:VEVENT

END:VCALENDAR
