BEGIN:VCALENDAR
VERSION:2.0
PRODID:-//ChamberMaster//Event Calendar 2.0//EN
METHOD:PUBLISH
X-PUBLISHED-TTL:P3D
REFRESH-INTERVAL:P3D
CALSCALE:GREGORIAN
BEGIN:VEVENT
DTSTART:20170922T160000Z
DTEND:20170922T163000Z
X-MICROSOFT-CDO-ALLDAYEVENT:FALSE
SUMMARY:Ribbon Cutting for Beef Jerky Outlet
DESCRIPTION:Come celebrate one of our new members and all things beef jerky!
X-ALT-DESC;FMTTYPE=text/html:Come celebrate one of our new members and all things beef jerky!
LOCATION:1424 State Route 9 Lake George\, NY 12845 Located in the Ralph Lauren Outlet Building\, next to Bass.
UID:e.1842.1097
SEQUENCE:3
DTSTAMP:20260426T003450Z
URL:http://business.adirondackchamber.org/events/details/ribbon-cutting-for-beef-jerky-outlet-1097
END:VEVENT

END:VCALENDAR
