BEGIN:VCALENDAR
VERSION:2.0
PRODID:-//ChamberMaster//Event Calendar 2.0//EN
METHOD:PUBLISH
X-PUBLISHED-TTL:P3D
REFRESH-INTERVAL:P3D
CALSCALE:GREGORIAN
BEGIN:VEVENT
DTSTART:20180924T160000Z
DTEND:20180924T170000Z
X-MICROSOFT-CDO-ALLDAYEVENT:FALSE
SUMMARY:Ribbon Cutting for Bay Optical
DESCRIPTION:Come and check out the new renovations at Bay Optical to celebrate with a ribbon cutting event!
X-ALT-DESC;FMTTYPE=text/html:Come and check out the new renovations at Bay Optical to celebrate with a ribbon cutting event!
LOCATION:Bay Optical 152 Bay Road\, Queensbury NY 12804
UID:e.1842.3460
SEQUENCE:3
DTSTAMP:20260425T031612Z
URL:http://business.adirondackchamber.org/events/details/ribbon-cutting-for-bay-optical-3460
END:VEVENT

END:VCALENDAR
