BEGIN:VCALENDAR
VERSION:2.0
PRODID:-//ChamberMaster//Event Calendar 2.0//EN
METHOD:PUBLISH
X-PUBLISHED-TTL:P3D
REFRESH-INTERVAL:P3D
CALSCALE:GREGORIAN
BEGIN:VEVENT
DTSTART:20180416T193000Z
DTEND:20180416T203000Z
X-MICROSOFT-CDO-ALLDAYEVENT:FALSE
SUMMARY:Ribbon Cutting for Apex Roofing
DESCRIPTION:Come join us and welcome Apex Roofing with a Ribbon Cutting Celebration.\n\nRefreshments will be provided along with tours of the facility
X-ALT-DESC;FMTTYPE=text/html:Come join us and welcome Apex Roofing with a Ribbon Cutting Celebration.<br />\nRefreshments will be provided along with tours of the facility
LOCATION:64 Main Street Queensbury\, NY 12804
UID:e.1842.3300
SEQUENCE:3
DTSTAMP:20260425T110411Z
URL:http://business.adirondackchamber.org/events/details/ribbon-cutting-for-apex-roofing-3300
END:VEVENT

END:VCALENDAR
