BEGIN:VCALENDAR
VERSION:2.0
PRODID:-//ChamberMaster//Event Calendar 2.0//EN
METHOD:PUBLISH
X-PUBLISHED-TTL:P3D
REFRESH-INTERVAL:P3D
CALSCALE:GREGORIAN
BEGIN:VEVENT
DTSTART:20180426T190000Z
DTEND:20180426T193000Z
X-MICROSOFT-CDO-ALLDAYEVENT:FALSE
SUMMARY:Ribbon Cutting for Amsure
DESCRIPTION:Amsure was recently adopted as Adirondack Trust's insurance agency. Join us as we welcome them to the business community with a ribbon cutting ceremony.
X-ALT-DESC;FMTTYPE=text/html:<span style="font-family: arial\;"><span style="color: rgb(0\, 0\, 0)\;"><span style="font-style: normal\; font-variant-ligatures: normal\; font-variant-caps: normal\; font-weight: 400\; letter-spacing: normal\; text-indent: 0px\; text-transform: none\; white-space: normal\; word-spacing: 0px\; -webkit-text-stroke-width: 0px\; background-color: rgb(255\, 255\, 255)\; text-decoration-style: initial\; text-decoration-color: initial\; display: inline !important\; float: none\;">Amsure was recently adopted as Adirondack Trust&#39\;s insurance agency. Join us as we welcome them to the business community with a ribbon cutting ceremony.</span></span></span>
LOCATION:Adirondack Trust Queensbury Branch 376 Bay Road\, Queensbury\, NY 12804
UID:e.1842.1268
SEQUENCE:3
DTSTAMP:20260425T110952Z
URL:http://business.adirondackchamber.org/events/details/ribbon-cutting-for-amsure-1268
END:VEVENT

END:VCALENDAR
