BEGIN:VCALENDAR
VERSION:2.0
PRODID:-//ChamberMaster//Event Calendar 2.0//EN
METHOD:PUBLISH
X-PUBLISHED-TTL:P3D
REFRESH-INTERVAL:P3D
CALSCALE:GREGORIAN
BEGIN:VEVENT
DTSTART:20171102T193000Z
DTEND:20171102T203000Z
X-MICROSOFT-CDO-ALLDAYEVENT:FALSE
SUMMARY:Ribbon Cutting for Ambleside School of the Adirondacks
DESCRIPTION:The Ambleside School of the Adirondacks has moved to their new location in Queensbury. Come check out the facility as we celebrate their relocation.
X-ALT-DESC;FMTTYPE=text/html:The Ambleside School of the Adirondacks has moved to their new location in Queensbury. Come check out the facility as we celebrate their relocation.
LOCATION:Ambleside School of the Adirondacks 15 Burke Drive\, Queensbury\, NY 12804
UID:e.1842.1101
SEQUENCE:3
DTSTAMP:20260425T204736Z
URL:http://business.adirondackchamber.org/events/details/ribbon-cutting-for-ambleside-school-of-the-adirondacks-1101
END:VEVENT

END:VCALENDAR
