BEGIN:VCALENDAR
VERSION:2.0
PRODID:-//ChamberMaster//Event Calendar 2.0//EN
METHOD:PUBLISH
X-PUBLISHED-TTL:P3D
REFRESH-INTERVAL:P3D
CALSCALE:GREGORIAN
BEGIN:VEVENT
DTSTART:20181026T190000Z
DTEND:20181026T200000Z
X-MICROSOFT-CDO-ALLDAYEVENT:FALSE
SUMMARY:Ribbon Cutting for Allstate Insurance- The Deutsch Agency
DESCRIPTION:Come and join us for a ribbon cutting to welcome Allstate Insurance- The Deutsch Agency!
X-ALT-DESC;FMTTYPE=text/html:Come and join us for a ribbon cutting to welcome Allstate Insurance- The Deutsch Agency!&nbsp\;&nbsp\;
LOCATION:340 Aviation Road Suite #5 Queensbury\, NY 12804
UID:e.1842.3486
SEQUENCE:3
DTSTAMP:20260425T013256Z
URL:http://business.adirondackchamber.org/events/details/ribbon-cutting-for-allstate-insurance-the-deutsch-agency-3486
END:VEVENT

END:VCALENDAR
