BEGIN:VCALENDAR
VERSION:2.0
PRODID:-//ChamberMaster//Event Calendar 2.0//EN
METHOD:PUBLISH
X-PUBLISHED-TTL:P3D
REFRESH-INTERVAL:P3D
CALSCALE:GREGORIAN
BEGIN:VEVENT
DTSTART:20190917T190000Z
DTEND:20190917T193000Z
X-MICROSOFT-CDO-ALLDAYEVENT:FALSE
SUMMARY:Ribbon Cutting for Alliance for Positive Health
DESCRIPTION:Alliance for Positive Health is a community based organization dedicated to improving lives impacted by HIV/AIDS and other chronic illnesses. For over 35 years the Alliance for Positive Health has modeled client centered care and provided skills to help those we serve make informed decisions.\n\n\n\nThey are excited to open up their new office space in Glens Falls. Join us in the celebration with a ribbon cutting!
X-ALT-DESC;FMTTYPE=text/html:<span style="color:#000000\;">Alliance for Positive Health is a community based organization dedicated to improving lives impacted by HIV/AIDS and other chronic illnesses. For over 35 years the Alliance for Positive Health has modeled client centered care and provided skills to help those we serve make informed decisions.<br />\n<br />\nThey are excited to open up their new office space in Glens Falls. Join us in the celebration with a ribbon cutting!</span>
LOCATION:Alliance for Positive Health 13 Chester Street Glens Falls\, NY 12801
UID:e.1842.3831
SEQUENCE:3
DTSTAMP:20260422T092726Z
URL:http://business.adirondackchamber.org/events/details/ribbon-cutting-for-alliance-for-positive-health-3831
END:VEVENT

END:VCALENDAR
