BEGIN:VCALENDAR
VERSION:2.0
PRODID:-//ChamberMaster//Event Calendar 2.0//EN
METHOD:PUBLISH
X-PUBLISHED-TTL:P3D
REFRESH-INTERVAL:P3D
CALSCALE:GREGORIAN
BEGIN:VEVENT
DTSTART:20190628T130000Z
DTEND:20190628T150000Z
X-MICROSOFT-CDO-ALLDAYEVENT:FALSE
SUMMARY:Ribbon Cutting for Aerial Adventure Park at West Mountain
DESCRIPTION:West Mountain is thrilled to unveil their new Aerial Adventure Park for the summer! Come get a first-look and help them celebrate with a ribbon cutting.\n\n\n\nThe ribbon cutting will take place in front of the Aerial Course. Those attending the event will have to take the chair lift up to the top of the mountain to get to the Aerial Course. The chairlift to the course will be leaving promptly at 9:00 am. Please arrive early!
X-ALT-DESC;FMTTYPE=text/html:<span style="color:#000000\;">West Mountain is thrilled to unveil their new Aerial Adventure Park for the summer! Come get a first-look and help them celebrate with a ribbon cutting.<br />\n<br />\nThe ribbon cutting will take place in front of the Aerial Course. Those attending the event will have to take the chair lift up to the top of the mountain to get to the Aerial Course. <strong>The chairlift to the course will be leaving promptly at 9:00 am. Please arrive early!</strong></span>
LOCATION:West Mountain 59 West Mountain Road Queensbury\, NY 12804
UID:e.1842.3731
SEQUENCE:3
DTSTAMP:20260424T122532Z
URL:http://business.adirondackchamber.org/events/details/ribbon-cutting-for-aerial-adventure-park-at-west-mountain-3731
END:VEVENT

END:VCALENDAR
