BEGIN:VCALENDAR
VERSION:2.0
PRODID:-//ChamberMaster//Event Calendar 2.0//EN
METHOD:PUBLISH
X-PUBLISHED-TTL:P3D
REFRESH-INTERVAL:P3D
CALSCALE:GREGORIAN
BEGIN:VEVENT
DTSTART:20230208T210000Z
DTEND:20230208T220000Z
X-MICROSOFT-CDO-ALLDAYEVENT:FALSE
SUMMARY:Ribbon Cutting for ADK Mobile Nurse Services
DESCRIPTION:Join us as we welcome ADK Mobile Nurse Services to the business community with a ribbon cutting!\n\n\n\nADK Mobile Nurse delivers health and wellness to the community through IV Vitamin Therapy (Partnered with Hydreight  ) and Nurse Concierge Services. Come learn more about what they do!
X-ALT-DESC;FMTTYPE=text/html:Join us as we welcome ADK Mobile Nurse Services to the business community with a ribbon cutting!<br />\n<br />\nADK Mobile Nurse delivers health and wellness to the community through IV Vitamin Therapy (Partnered with Hydreight &reg\;) and Nurse Concierge Services. Come learn more about what they do!
LOCATION:35 Evergreen Lane Queensbury\, NY 12804
UID:e.1842.4320
SEQUENCE:3
DTSTAMP:20260419T121431Z
URL:http://business.adirondackchamber.org/events/details/ribbon-cutting-for-adk-mobile-nurse-services-4320
END:VEVENT

END:VCALENDAR
