BEGIN:VCALENDAR
VERSION:2.0
PRODID:-//ChamberMaster//Event Calendar 2.0//EN
METHOD:PUBLISH
X-PUBLISHED-TTL:P3D
REFRESH-INTERVAL:P3D
CALSCALE:GREGORIAN
BEGIN:VEVENT
DTSTART:20220816T200000Z
DTEND:20220816T220000Z
X-MICROSOFT-CDO-ALLDAYEVENT:FALSE
SUMMARY:Ribbon Cutting for Adirondack Winery Queensbury Tasting Room
DESCRIPTION:Join the ARCC and the Lake George Regional Chamber of Commerce for a joint chamber ribbon cutting for the new Queensbury Tasting Room of Adirondack Winery!\n\n \n\nTheir all-new $2.6 million Queensbury Tasting Room and wine making facility is located just off Northway exit 18. The Queensbury Tasting Room offers outdoor patio seating\, larger wine pours\, charcuterie boards\, Sunday brunch\, wine / crafting events\, a private event space and so much more!
X-ALT-DESC;FMTTYPE=text/html:<div -webkit-text-stroke-width:="" background-color:="" color:="" font-size:="" font-style:="" font-variant-caps:="" font-variant-ligatures:="" font-weight:="" letter-spacing:="" orphans:="" segoe="" text-align:="" text-decoration-color:="" text-decoration-style:="" text-decoration-thickness:="" text-indent:="" text-transform:="" ui="" white-space:="" widows:="" word-spacing:="">Join the ARCC and the Lake George Regional Chamber of Commerce for a joint chamber ribbon cutting for the new Queensbury Tasting Room of Adirondack Winery!<br />\n&nbsp\;</div>\n\n<div -webkit-text-stroke-width:="" background-color:="" color:="" font-size:="" font-style:="" font-variant-caps:="" font-variant-ligatures:="" font-weight:="" letter-spacing:="" orphans:="" segoe="" text-align:="" text-decoration-color:="" text-decoration-style:="" text-decoration-thickness:="" text-indent:="" text-transform:="" ui="" white-space:="" widows:="" word-spacing:="">Their all-new $2.6 million Queensbury Tasting Room and wine making facility is located just off Northway exit 18. The Queensbury Tasting Room offers outdoor patio seating\, larger wine pours\, charcuterie boards\, Sunday brunch\, wine / crafting events\, a private event space and so much more!</div>\n
LOCATION:Adirondack Winery Queensbury Tasting Room 395 Big Bay Road Queensbury\, NY 12804
UID:e.1842.4255
SEQUENCE:3
DTSTAMP:20260419T220041Z
URL:http://business.adirondackchamber.org/events/details/ribbon-cutting-for-adirondack-winery-queensbury-tasting-room-4255
END:VEVENT

END:VCALENDAR
