BEGIN:VCALENDAR
VERSION:2.0
PRODID:-//ChamberMaster//Event Calendar 2.0//EN
METHOD:PUBLISH
X-PUBLISHED-TTL:P3D
REFRESH-INTERVAL:P3D
CALSCALE:GREGORIAN
BEGIN:VEVENT
DTSTART:20240422T160000Z
DTEND:20240422T170000Z
X-MICROSOFT-CDO-ALLDAYEVENT:FALSE
SUMMARY:Ribbon Cutting for Adirondack Healing
DESCRIPTION:For over a decade\, Adirondack Healing Inc. founder\, June Stoddard-Finemore has served the Glens Falls community through her healing hands. As June expands into this new role\, she carefully curates the products\, services and people who will be part of the team and offerings at the new Adirondack Healing space. Join us as we celebrate June's growing business with a ribbon cutting!
X-ALT-DESC;FMTTYPE=text/html:For over a decade\, Adirondack Healing Inc. founder\, June Stoddard-Finemore has served the Glens Falls community through her healing hands. As June expands into this new role\, she carefully curates the products\, services and people who will be part of the team and offerings at the new Adirondack Healing space. Join us as we celebrate June&#39\;s growing business with a ribbon cutting!<br />\n&nbsp\;
LOCATION:5 Sagamore Street Suite B Glens Falls\, NY 12801
UID:e.1842.4500
SEQUENCE:3
DTSTAMP:20260420T083552Z
URL:http://business.adirondackchamber.org/events/details/ribbon-cutting-for-adirondack-healing-4500
END:VEVENT

END:VCALENDAR
