BEGIN:VCALENDAR
VERSION:2.0
PRODID:-//ChamberMaster//Event Calendar 2.0//EN
METHOD:PUBLISH
X-PUBLISHED-TTL:P3D
REFRESH-INTERVAL:P3D
CALSCALE:GREGORIAN
BEGIN:VEVENT
DTSTART:20220524T113000Z
DTEND:20220524T130000Z
X-MICROSOFT-CDO-ALLDAYEVENT:FALSE
SUMMARY:Reclaim Your Brain - Mental Health & Wellness in the Workplace
DESCRIPTION:The Workplace Health & Wellness Council of the Adirondack Regional Chamber of Commerce (ARCC) presents an event dedicated to the mental health and wellness in the workplace.\n\n\n\nWe are excited to welcome Sue McManus\, Program Director with the Employee Assistance Program of the Adirondacks. Sue is a licensed Registered Mental Nurse (RMN)\, and is also a DOT qualified Substance Abuse Professional. She has enjoyed a 38-year career in mental health and addiction services both overseas and in the United States.\n\n\n\nThe topic is: Reclaim Your Brain\n\nWe have all been exposed to the collective trauma of the past few years   what does this mean for us as individuals\, employees\, community members and business owners?\n\n \n\nThis discussion will help you:\n\n	Create a better understanding of our mind body connection\;\n	Practice some mindfulness exercises\;\n	Experience cognitive restructuring in the moment\;\n	Access the power of gratitude.
X-ALT-DESC;FMTTYPE=text/html:The Workplace Health &amp\; Wellness Council of the Adirondack Regional Chamber of Commerce (ARCC) presents an event dedicated to the mental health and wellness in the workplace.<br />\n<br />\nWe are excited to welcome Sue McManus\, Program Director with the Employee Assistance Program of the Adirondacks. Sue is a licensed Registered Mental Nurse (RMN)\, and is also a DOT qualified Substance Abuse Professional.&nbsp\;She has enjoyed a 38-year career in mental health and addiction services both overseas and in the United States.<br />\n<br />\n<strong>The topic is: Reclaim Your Brain</strong><br />\nWe have all been exposed to the collective trauma of the past few years &ndash\; what does this mean for us as individuals\, employees\, community members and business owners?<br />\n&nbsp\;<br />\n<strong>This discussion will help you:</strong>\n<ul>\n	<li>Create a better understanding of our mind body connection\;</li>\n	<li>Practice some mindfulness exercises\;</li>\n	<li>Experience cognitive restructuring in the moment\;</li>\n	<li>Access the power of gratitude.</li>\n</ul>\n<br />\n&nbsp\;
LOCATION:The Queensbury Hotel 88 Ridge Street Glens Falls\, NY 12801
UID:e.1842.4215
SEQUENCE:3
DTSTAMP:20260420T041946Z
URL:http://business.adirondackchamber.org/events/details/reclaim-your-brain-mental-health-wellness-in-the-workplace-4215
END:VEVENT

END:VCALENDAR
