BEGIN:VCALENDAR
VERSION:2.0
PRODID:-//ChamberMaster//Event Calendar 2.0//EN
METHOD:PUBLISH
X-PUBLISHED-TTL:P3D
REFRESH-INTERVAL:P3D
CALSCALE:GREGORIAN
BEGIN:VEVENT
DTSTART:20190312T113000Z
DTEND:20190312T130000Z
X-MICROSOFT-CDO-ALLDAYEVENT:FALSE
SUMMARY:Project Management Basics
DESCRIPTION:The Adirondack Business Development Partnership presents:\n\n\n\nProject Management Basics\n\nDemystifying Project Management for Successful Project Results\n\n\n\nDoes the thought of managing a project stress you out?\n\nJoin us for Project Management Basics presented by Mary Beth Imbarrato of MBI Consulting. During the seminar Mary Beth will provide an overview of:\n\n	How to identify & manage project goals\, objectives & risks\n	The purpose of a communication plan in managing projects\n	Factors to consider when developing project schedules
X-ALT-DESC;FMTTYPE=text/html:The Adirondack Business Development Partnership presents:<br />\n<br />\n<span style="font-size:14px\;"><strong>Project Management Basics</strong></span><br />\n<em>Demystifying Project Management for Successful Project Results</em><br />\n<br />\nDoes the thought of managing a project stress you out?<br />\nJoin us for Project Management Basics presented by Mary Beth Imbarrato of MBI Consulting. During the seminar Mary Beth will provide an overview of:\n<ul>\n	<li>How to identify &amp\; manage project goals\, objectives &amp\; risks</li>\n	<li>The purpose of a communication plan in managing projects</li>\n	<li>Factors to consider when developing project schedules</li>\n</ul>\n
LOCATION:SUNY Adirondack Center for Entrepreneurship\, Adirondack Hall 640 Bay Road\, Queensbury\, NY 12804
UID:e.1842.3653
SEQUENCE:3
DTSTAMP:20260424T171744Z
URL:http://business.adirondackchamber.org/events/details/project-management-basics-3653
END:VEVENT

END:VCALENDAR
