BEGIN:VCALENDAR
VERSION:2.0
PRODID:-//ChamberMaster//Event Calendar 2.0//EN
METHOD:PUBLISH
X-PUBLISHED-TTL:P3D
REFRESH-INTERVAL:P3D
CALSCALE:GREGORIAN
BEGIN:VEVENT
DTSTART:20221216T190000Z
DTEND:20221216T200000Z
X-MICROSOFT-CDO-ALLDAYEVENT:FALSE
SUMMARY:POSTPONED Ribbon Cutting for FISH307.com
DESCRIPTION:POSTPONED: Due to the incoming snow storm\, this ribbon cutting has been postponed. Stay tuned as we announce a future date!\n\n\n\nJoin the ARCC\, and the Lake George Regional Chamber of Commerce\, for a ribbon cutting to celebrate the new location of FISH307.com. Their new space is larger and will include more retail\, office\, and warehouse space.
X-ALT-DESC;FMTTYPE=text/html:<strong>POSTPONED: Due to the incoming snow storm\, this ribbon cutting has been postponed. Stay tuned as we announce a future date!</strong><br />\n<br />\nJoin the ARCC\, and the Lake George Regional Chamber of Commerce\, for a ribbon cutting to celebrate the new location of FISH307.com. Their new space is larger and will include more retail\, office\, and warehouse space.
LOCATION:FISH307 814 Goggins Road Lake George\, NY
UID:e.1842.4278
SEQUENCE:3
DTSTAMP:20260419T170204Z
URL:http://business.adirondackchamber.org/events/details/postponed-ribbon-cutting-for-fish307-com-4278
END:VEVENT

END:VCALENDAR
