BEGIN:VCALENDAR
VERSION:2.0
PRODID:-//ChamberMaster//Event Calendar 2.0//EN
METHOD:PUBLISH
X-PUBLISHED-TTL:P3D
REFRESH-INTERVAL:P3D
CALSCALE:GREGORIAN
BEGIN:VEVENT
DTSTART:20180220T130000Z
DTEND:20180221T170000Z
X-MICROSOFT-CDO-ALLDAYEVENT:FALSE
SUMMARY:OSHA 10-Hour Construction Industry Training
DESCRIPTION:OSHA 10-Hour Construction Industry Training\n\nThis day and a half course is for entry level construction workers\, and covers awareness on recognizing and preventing hazards at a construction site.\n\n\n\nOSHA 10 Hour is required by most Federal and State jobs.
X-ALT-DESC;FMTTYPE=text/html:<span style="color:#000000\;"><strong>OSHA 10-Hour Construction Industry Training</strong><br />\nThis day and a half course is for entry level construction workers\, and covers awareness on recognizing and preventing hazards at a construction site.<br />\n<br />\n<em>OSHA 10 Hour is required by most Federal and State jobs.</em></span><br />\n&nbsp\;
LOCATION:Holiday Inn 2223 Canada Street/Route 9 Lake George\, NY 12845
UID:e.1842.1126
SEQUENCE:3
DTSTAMP:20260425T134734Z
URL:http://business.adirondackchamber.org/events/details/osha-10-hour-construction-industry-training-1126
END:VEVENT

END:VCALENDAR
