BEGIN:VCALENDAR
VERSION:2.0
PRODID:-//ChamberMaster//Event Calendar 2.0//EN
METHOD:PUBLISH
X-PUBLISHED-TTL:P3D
REFRESH-INTERVAL:P3D
CALSCALE:GREGORIAN
BEGIN:VEVENT
DTSTART:20180925T153000Z
DTEND:20180925T170000Z
X-MICROSOFT-CDO-ALLDAYEVENT:FALSE
SUMMARY:NY State's New Annual Discrimination Training Requirements Seminar
DESCRIPTION:ARCC Lunch & Learn\n\n\n\nOn April 12\, 2018\, New York Governor Cuomo signed the state budget\, which mandates employers provide employees with annual sexual harassment training. In 2018\, employers must provide the training and a written anti-harassment policy to employees starting in October.\n\n\n\nAttend this seminar to learn more about the requirements for your business\, presented by Megan Collelo of Bond Schoeneck & King Attorneys.\n\n \n*ARCC's Cancelation Policy: A registration is a reservation and we look forward to you joining us. To best support our venue partners and event attendees\, a refund for any reservation will require 72 hours notice for cancellation. Reserved no shows will be charged the full price. We encourage you to send a co-worker\, peer\, vendor or customer if you're not able to make it and giving notice wasn't optional.
X-ALT-DESC;FMTTYPE=text/html:<span style="color:#000000\;"><span style="font-size:16px\;"><u><strong>ARCC Lunch &amp\; Learn</strong></u></span><br />\n<br />\nOn April 12\, 2018\, New York Governor Cuomo signed the state budget\, which mandates employers provide employees with&nbsp\;annual&nbsp\;sexual harassment training. In 2018\, employers must provide the training and a written anti-harassment policy to employees starting in October.<br />\n<br />\nAttend this seminar to learn more about the requirements for your business\, presented by Megan Collelo of <a href="https://www.bsk.com/" target="_blank">Bond Schoeneck &amp\; King Attorneys</a>.</span><br />\n&nbsp\;\n<p><span style="font-size:11px\;"><em>*ARCC&#39\;s&nbsp\;Cancelation Policy: A registration is a reservation and we look forward to you joining us. To best support our venue partners and event attendees\, a refund for any reservation will require 72 hours notice for&nbsp\;cancellation. Reserved no shows will be charged the full price. We encourage you to send a co-worker\, peer\, vendor or customer if you&#39\;re not able to make it and giving notice wasn&#39\;t optional.</em></span></p>\n
LOCATION:The Tower Event Center 333 Glen Street\, 9th Floor Glens Falls\, NY 12801
UID:e.1842.3454
SEQUENCE:3
DTSTAMP:20260425T030113Z
URL:http://business.adirondackchamber.org/events/details/ny-state-s-new-annual-discrimination-training-requirements-seminar-3454
END:VEVENT

END:VCALENDAR
