BEGIN:VCALENDAR
VERSION:2.0
PRODID:-//ChamberMaster//Event Calendar 2.0//EN
METHOD:PUBLISH
X-PUBLISHED-TTL:P3D
REFRESH-INTERVAL:P3D
CALSCALE:GREGORIAN
BEGIN:VEVENT
DTSTART:20141104T123000Z
DTEND:20141104T140000Z
X-MICROSOFT-CDO-ALLDAYEVENT:FALSE
SUMMARY:November NEW Breakfast
DESCRIPTION:Networking for Enterprising Women                                          \n\nProgram of the chamber that encourages personal and professional growth through networking and educational activities aimed towards women in business\n\n\n\n\n\nJoin us on Tuesday\, November 4th \, for our Networking for Enterprising Woman Breakfast at Ambrosia Diner. Don't miss this opportunity to network with other business women within the community. We be hearing from Kate Austin-Avon owner of Advokate.\n\n\n\nKate Austin-Avon will present on branding\, addressing the following:\n\n- What is Branding? With examples of successful national and local brands\n\n- Why Branding is Relevant to Your Business \n\n- What Elements Comprise a Successful Brand \n\n- How Often a Brand Should be Updated \n\n- Where to Start \n\n\n\n*ARCC's Cancelation Policy: Payment in full is expected for reserved events. Refunds will not be made if cancelation of an event reservation is made less than 72 hours prior to the date of the event. Reserved no shows will be charged full price.
X-ALT-DESC;FMTTYPE=text/html:&nbsp\;&nbsp\;&nbsp\;&nbsp\;&#8203\;&nbsp\;&nbsp\;&nbsp\;&nbsp\;&#8203\;&nbsp\;&nbsp\;&nbsp\;&nbsp\;&nbsp\;&nbsp\;&nbsp\;&nbsp\;&nbsp\;&nbsp\;&nbsp\;&nbsp\;&#8203\;<strong style="font-size: 12.7272720336914px\; line-height: 18.9090900421143px\;"><em><span style="font-size: 16px\;">Networking for Enterprising Women &nbsp\; &nbsp\; &nbsp\; &nbsp\; &nbsp\; &nbsp\; &nbsp\; &nbsp\; &nbsp\; &nbsp\; &nbsp\; &nbsp\; &nbsp\;</span>&nbsp\; &nbsp\; &nbsp\; &nbsp\; &nbsp\; &nbsp\; &nbsp\; &nbsp\;<span style="font-size: 16px\;">&nbsp\;<br />\nProgram of the chamber that encourages personal and professional growth through networking and educational activities aimed towards women in business</span></em></strong><br style="font-size: 12.7272720336914px\; line-height: 18.9090900421143px\;" />\n<br style="font-size: 12.7272720336914px\; line-height: 18.9090900421143px\;" />\n<br style="font-size: 12.7272720336914px\; line-height: 18.9090900421143px\;" />\n<span style="font-size: 12.7272720336914px\; line-height: 18.9090900421143px\; font-family: arial\;"><span style="font-size: 16px\;">Join us on&nbsp\;<strong>Tuesday\, November 4th \,</strong>&nbsp\;for our Networking for Enterprising Woman&nbsp\;Breakfast at Ambrosia Diner<strong>.&nbsp\;</strong>Don&#39\;t miss this opportunity to network with other business women within the community. We be hearing from Kate Austin-Avon owner of Advokate.</span></span><br />\n<br />\n<strong><span style="font-size:14px\;"><span style="color:black\;"><span style="font-family:arial\,sans-serif\;">Kate Austin-Avon will present on branding\, addressing the following:</span></span><br />\n<span style="color:black\;"><span style="font-family:arial\,sans-serif\;">- What is Branding?&nbsp\;With examples of successful national and local brands<br />\n- Why Branding is Relevant to Your Business&nbsp\;<br />\n- What Elements Comprise a Successful Brand&nbsp\;<br />\n- How Often a Brand Should be Updated&nbsp\;<br />\n- Where to Start&nbsp\;</span></span></span></strong><br />\n<br />\n<span style="font-size: 12.7272720336914px\; line-height: 18.9090900421143px\;">*</span><span style="font-family: tahoma\; font-size: 12px\; line-height: 15.3600006103516px\;">ARCC&#39\;s Cancelation Policy: Payment in full is expected for reserved events. Refunds will not be made if cancelation of an event reservation is made less than 72 hours prior&nbsp\;to the date of the event. Reserved no shows will be charged full price.</span><br />\n&nbsp\;
LOCATION:518 Aviation Rd Queensbury\, NY 12804
UID:e.1842.542
SEQUENCE:3
DTSTAMP:20260422T135220Z
URL:http://business.adirondackchamber.org/events/details/november-new-breakfast-11-04-2014-542
END:VEVENT

END:VCALENDAR
