BEGIN:VCALENDAR
VERSION:2.0
PRODID:-//ChamberMaster//Event Calendar 2.0//EN
METHOD:PUBLISH
X-PUBLISHED-TTL:P3D
REFRESH-INTERVAL:P3D
CALSCALE:GREGORIAN
BEGIN:VEVENT
DTSTART:20240410T193000Z
DTEND:20240410T203000Z
X-MICROSOFT-CDO-ALLDAYEVENT:FALSE
SUMMARY:Nonprofit Chat hosted by Adirondack Nonprofit Business Council
DESCRIPTION:Nonprofits are invited to join us for this informal gathering of regional organizations.\n\n\n\nThe topic of discussion for this meeting will be on the New York State 1115 Waiver. \n\n\n\nIf you are a nonprofit organization/agency/provider of services\, or a faith based organization that currently provides social resources which intersect with holistic health for people in the community\, we would like to invite you to this discussion where information about the NY State 1115 Waiver will be presented along with information on how the community can come together to help support the state's most vulnerable community members.
X-ALT-DESC;FMTTYPE=text/html:Nonprofits are invited to join us for this informal gathering of regional organizations.<br />\n<br />\n<strong>The topic of discussion for this meeting will be on the New York State 1115 Waiver. </strong><br />\n<br />\n<em>If you are a nonprofit organization/agency/provider of services\, or a faith based organization that currently provides social resources which intersect with holistic health for people in the community\, we would like to invite you to this discussion where information about the NY State 1115 Waiver will be presented along with information on how the community can come together to help support the state&rsquo\;s most vulnerable community members.</em><br />\n&nbsp\;
LOCATION:230 Maple Street Glens Falls\, NY 12801
UID:e.1842.4506
SEQUENCE:3
DTSTAMP:20260420T084032Z
URL:http://business.adirondackchamber.org/events/details/nonprofit-chat-hosted-by-adirondack-nonprofit-business-council-4506
END:VEVENT

END:VCALENDAR
