BEGIN:VCALENDAR
VERSION:2.0
PRODID:-//ChamberMaster//Event Calendar 2.0//EN
METHOD:PUBLISH
X-PUBLISHED-TTL:P3D
REFRESH-INTERVAL:P3D
CALSCALE:GREGORIAN
BEGIN:VEVENT
DTSTART:20201216T170000Z
DTEND:20201216T180000Z
X-MICROSOFT-CDO-ALLDAYEVENT:FALSE
SUMMARY:Nonprofit Brown Bag Lunch Chat
DESCRIPTION:The Adirondack Nonprofit Business Council (ANBC) invites you to another Nonprofit Brown Bag Lunch Chat. Join us for nonprofit updates and a special presentation by our guest speaker\, Kathy Tolstrup of the Tri-County United Way.\n\n\n\nJoin us with the following Zoom information:\n\nhttps://us02web.zoom.us/j/86784396339\n\n\n\nMeeting ID: 867 8439 6339\n\nOne tap mobile\n\n+19292056099\,\,86784396339# US (New York)\n\n\n\n\n\n\n\nKathy will be reporting on the results of a community survey that the Tri-County United Way conducted. A little on the community survey:\n\nThe corona virus is impacting our community in unprecedented ways and is seriously affecting all of the core areas United Way targets to bring support and relief   education\, health\, financial security and basic needs.  Recovery from the effects of the COVID-19 pandemic are projected to be long-term and delivering devastating blows to the ALICE contingent we seek to advocate and lift up.\n\n \n\nBefore the pandemic hit\, 30% of Warren & Washington county households were led by workers unable to earn enough to cover the basics and save for unexpected crisis or a job loss. For many\, the economic crisis has stripped available assets and abruptly repositioned families into unfamiliar financial positions.  Another 10% of households were already living at defined poverty levels. \n\n \n\nIt is imperative that Tri-County United Way and its partners focus on our communities most critical needs during this long recovery.  To that end\, we conducted a COVID -19 Community Survey targeted to residents\, local business leaders and their employees.  The survey sought information on a wide range of topics\, including the most pressing concerns\, job changes\, childcare challenges and other economic changes local families are navigating.  As we think ahead to the next phase of recovery\, knowing what will be needed most to help get families back on track will be critical.\n\n \n\nSurvey results from over 400 families are in and despite the dynamic challenges faced\, local residents' number one concern is contracting COVID-19.
X-ALT-DESC;FMTTYPE=text/html:<div>The Adirondack Nonprofit Business Council (ANBC) invites you to another Nonprofit Brown Bag Lunch Chat. Join us for nonprofit updates and a special presentation by our guest speaker\, Kathy Tolstrup of the Tri-County United Way.<br />\n<br />\n<strong>Join us with the following Zoom information:</strong><br />\n<a href="https://us02web.zoom.us/j/86784396339" target="_blank">https://us02web.zoom.us/j/86784396339</a><br />\n<br />\n<strong>Meeting ID</strong>: 867 8439 6339<br />\n<strong>One tap mobile</strong><br />\n+19292056099\,\,86784396339# US (New York)<br />\n<br />\n<br />\n<br />\nKathy will be reporting on the results of a community survey that the Tri-County United Way conducted. <strong>A little on the community survey:</strong></div>\n\n<div>The corona virus is impacting our community in unprecedented ways and is seriously affecting all of the core areas United Way targets to bring support and relief &ndash\; education\, health\, financial security and basic needs.&nbsp\; Recovery from the effects of the COVID-19 pandemic are projected to be long-term and delivering devastating blows to the ALICE contingent we seek to advocate and lift up.</div>\n\n<div>&nbsp\;</div>\n\n<div>Before the pandemic hit\, 30% of Warren &amp\; Washington county households were led by workers unable to earn enough to cover the basics and save for unexpected crisis or a job loss. For many\, the economic crisis has stripped available assets and abruptly repositioned families into unfamiliar financial positions.&nbsp\; Another 10% of households were already living at defined poverty levels.&nbsp\;</div>\n\n<div>&nbsp\;</div>\n\n<div>It is imperative that Tri-County United Way and its partners focus on our communities most critical needs during this long recovery.&nbsp\; To that end\, we conducted a&nbsp\;COVID -19 Community Survey&nbsp\;targeted to residents\, local business leaders and their employees.&nbsp\; The survey sought information on a wide range of topics\, including the most pressing concerns\, job changes\, childcare challenges and other economic changes local families are navigating.&nbsp\; As we think ahead to the next phase of recovery\, knowing what will be needed most to help get families back on track will be critical.</div>\n\n<div>&nbsp\;</div>\n\n<div><strong>Survey results from over 400 families are in and despite the dynamic challenges faced\, local residents&rsquo\; number one concern is contracting COVID-19.</strong></div>\n
LOCATION:Virtual via Zoom
UID:e.1842.4010
SEQUENCE:3
DTSTAMP:20260421T054222Z
URL:http://business.adirondackchamber.org/events/details/nonprofit-brown-bag-lunch-chat-4010
END:VEVENT

END:VCALENDAR
