BEGIN:VCALENDAR
VERSION:2.0
PRODID:-//ChamberMaster//Event Calendar 2.0//EN
METHOD:PUBLISH
X-PUBLISHED-TTL:P3D
REFRESH-INTERVAL:P3D
CALSCALE:GREGORIAN
BEGIN:VEVENT
DTSTART:20230215T203000Z
DTEND:20230215T213000Z
X-MICROSOFT-CDO-ALLDAYEVENT:FALSE
SUMMARY:Nonprofit Brown Bag Chat
DESCRIPTION:Join us for the first in-person Nonprofit Brown Bag since 2020!\n\n\n\nThe Adirondack Nonprofit Business Council (ANBC) is excited to bring this monthly gathering of nonprofits back in-person! We also moved the time to the afternoon to hopefully accommodate more attendees.\n\n\n\nThis month we will focus on the topic of: Nonprofit events   is the community calendar shifting? Are you changing your flagship event dates in 2023? Everyone is encouraged to bring a list of their upcoming events to share and compare.\n\n\n\nMany thanks to our friends at Southern Adirondack Independent Living (SAIL) for hosting us!
X-ALT-DESC;FMTTYPE=text/html:Join us for the first in-person Nonprofit Brown Bag since 2020!<br />\n<br />\nThe Adirondack Nonprofit Business Council (ANBC) is excited to bring this monthly gathering of nonprofits back in-person! We also moved the time to the afternoon to hopefully accommodate more attendees.<br />\n<br />\nThis month we will focus on the topic of: Nonprofit events &ndash\; is the community calendar shifting? Are you changing your flagship event dates in 2023? <em>Everyone is encouraged to bring a list of their upcoming events to share and compare.</em><br />\n<br />\n<strong>Many thanks to our friends at Southern Adirondack Independent Living (SAIL) for hosting us!</strong><br />\n<br />\n&nbsp\;
LOCATION:SAIL 71 Glenwood Ave. Queensbury\, NY 12804
UID:e.1842.4340
SEQUENCE:3
DTSTAMP:20260419T121240Z
URL:http://business.adirondackchamber.org/events/details/nonprofit-brown-bag-chat-4340
END:VEVENT

END:VCALENDAR
