BEGIN:VCALENDAR
VERSION:2.0
PRODID:-//ChamberMaster//Event Calendar 2.0//EN
METHOD:PUBLISH
X-PUBLISHED-TTL:P3D
REFRESH-INTERVAL:P3D
CALSCALE:GREGORIAN
BEGIN:VEVENT
DTSTART:20170614T123000Z
DTEND:20170614T140000Z
X-MICROSOFT-CDO-ALLDAYEVENT:FALSE
SUMMARY:NextGens Present: Networking 101
DESCRIPTION:REGISTRATION IS CLOSED FOR THIS EVENT\n\n\n\nThe ADK NextGens are hosting a Networking 101 event. Join us as we learn the ins and outs of networking from our guest speaker\, Michael Cruz. \n\n\n\nMichael is a frequent speaker on all aspects of networking.  He uses his experiences to help businesses grow their business.  He helps them better focus their sales efforts.  As the Area Director for BNI\, he also coaches BNI members in the Saratoga and Glens Falls area.  \n\n\n\nPlus get an opportunity to meet the ADK NextGens and see if it is something you or a colleague would like to join. All are welcome!\n\n\n\nThe Adirondack NextGens (formerly known as the Young Professional Organization) is comprised of like-minded\, go-getters with a goal of engaging with the business community\, gaining knowledge and making a difference. We are looking to grow!
X-ALT-DESC;FMTTYPE=text/html:REGISTRATION IS CLOSED FOR THIS EVENT<br />\n<br />\nThe ADK NextGens are hosting a Networking 101 event. Join us as we learn the ins and outs of networking from our guest speaker\, Michael Cruz.&nbsp\;<br />\n<br />\n<em>Michael is a frequent speaker on all aspects of networking.&nbsp\; He uses his experiences to help businesses grow their business.&nbsp\; He helps them better focus their sales efforts.&nbsp\; As the Area Director for BNI\, he also coaches BNI members in the Saratoga and Glens Falls area.&nbsp\;&nbsp\;</em><br />\n<br />\nPlus get an opportunity to meet the ADK NextGens&nbsp\;and see if it is something you or a colleague would like to join. All are welcome!<br />\n<br />\n<em><span style="font-family: Arial\, Helvetica\, Geneva\, Swiss\, SunSans-Regular\;">The Adirondack NextGens (formerly known as the Young Professional Organization) is comprised of like-minded\, go-getters with a goal of engaging with the business community\, gaining knowledge and making a difference. We are looking to grow!&nbsp\;</span></em>
LOCATION:StoredTech Collaboration Center 543 Queensbury Avenue\, Queensbury\, NY 12804
UID:e.1842.1049
SEQUENCE:3
DTSTAMP:20260426T034011Z
URL:http://business.adirondackchamber.org/events/details/nextgens-present-networking-101-1049
END:VEVENT

END:VCALENDAR
