BEGIN:VCALENDAR
VERSION:2.0
PRODID:-//ChamberMaster//Event Calendar 2.0//EN
METHOD:PUBLISH
X-PUBLISHED-TTL:P3D
REFRESH-INTERVAL:P3D
CALSCALE:GREGORIAN
BEGIN:VEVENT
DTSTART:20190801T153000Z
DTEND:20190801T173000Z
X-MICROSOFT-CDO-ALLDAYEVENT:FALSE
SUMMARY:Lunch with Legislators
DESCRIPTION:Back for its second year\, the Adirondack Regional Chamber of Commerce invites you to another Lunch with Legislators. Join us for an informative discussion with your elected officials.\n\n\n\nIn attendance:\n\n	Congresswoman Elise Stefanik\n	Senator Betty Little\n	Assemblywoman Carrie Woerner\n	Assemblyman Jake Ashby\n\n \n\n*ARCC's Cancelation Policy: A registration is a reservation and we look forward to you joining us.  To best support our venue partners and event attendees\, a refund for any reservation will require 72 hours notice for cancellation. Reserved no shows will be charged the full price. We encourage you to send a co-worker\, peer\, vendor or customer if you're not able to make it and giving notice wasn't optional.
X-ALT-DESC;FMTTYPE=text/html:<span style="color:#000000\;">Back for its second year\, the Adirondack Regional Chamber of Commerce invites you to another Lunch with Legislators. Join us for an informative discussion with your elected officials.<br />\n<br />\n<u><strong>In attendance</strong></u>:</span>\n<ul>\n	<li>Congresswoman Elise Stefanik</li>\n	<li>Senator Betty Little</li>\n	<li>Assemblywoman Carrie Woerner</li>\n	<li>Assemblyman Jake Ashby</li>\n</ul>\n&nbsp\;<br />\n*ARCC&#39\;s Cancelation Policy: A registration is a reservation and we look forward to you joining us.&nbsp\; To best support our venue partners and event attendees\, a refund for any reservation will require 72 hours notice for cancellation. Reserved no shows will be charged the full price. We encourage you to send a co-worker\, peer\, vendor or customer if you&#39\;re not able to make it and giving notice wasn&#39\;t optional.<br />\n&nbsp\;
LOCATION:The Queensbury Hotel 88 Ridge Street Glens Falls\, NY 12801
UID:e.1842.3779
SEQUENCE:3
DTSTAMP:20260422T091736Z
URL:http://business.adirondackchamber.org/events/details/lunch-with-legislators-3779
END:VEVENT

END:VCALENDAR
