BEGIN:VCALENDAR
VERSION:2.0
PRODID:-//ChamberMaster//Event Calendar 2.0//EN
METHOD:PUBLISH
X-PUBLISHED-TTL:P3D
REFRESH-INTERVAL:P3D
CALSCALE:GREGORIAN
BEGIN:VEVENT
DTSTART:20200131T163000Z
DTEND:20200131T181500Z
X-MICROSOFT-CDO-ALLDAYEVENT:FALSE
SUMMARY:Lunch with Legislators 2020
DESCRIPTION:Join the ARCC for another Lunch with Legislators. In attendance will be:\n\n	Congresswoman Elise Stefanik \n	Senator Betty Little\n	Assemblywoman Carrie Woerner \n	Assemblyman Dan Stec\n\n This conversation will be moderated by ARCC President Michael Bittel.\n\n\n\nARCC's Cancelation Policy: A registration is a reservation and we look forward to you joining us. To best support our venue partners and event attendees\, a refund for any reservation will require 72 hours notice for cancellation. Reserved no shows will be charged the full price. We encourage you to send a co-worker\, peer\, vendor or customer if you're not able to make it and giving notice wasn't optional.
X-ALT-DESC;FMTTYPE=text/html:<span style="color:#000000\;">Join the ARCC for another Lunch with Legislators. In attendance will be:</span>\n<ul>\n	<li><span style="color:#000000\;">Congresswoman Elise Stefanik&nbsp\;</span></li>\n	<li><span style="color:#000000\;">Senator Betty Little</span></li>\n	<li><span style="color:#000000\;">Assemblywoman Carrie Woerner&nbsp\;</span></li>\n	<li><span style="color:#000000\;">Assemblyman Dan Stec</span></li>\n</ul>\n<span style="color:#000000\;"> This conversation will be moderated by ARCC President Michael Bittel.<br />\n<br />\n<span style="font-size:11px\;"><em>ARCC&#39\;s Cancelation Policy: A registration is a reservation and we look forward to you joining us. To best support our venue partners and event attendees\, a refund for any reservation will require 72 hours notice for cancellation. Reserved no shows will be charged the full price. We encourage you to send a co-worker\, peer\, vendor or customer if you&#39\;re not able to make it and giving notice wasn&#39\;t optional.</em></span></span>
LOCATION:The Queensbury Hotel Ballroom 88 Ridge Street Glens Falls\, NY 12801
UID:e.1842.3896
SEQUENCE:3
DTSTAMP:20260422T002431Z
URL:http://business.adirondackchamber.org/events/details/lunch-with-legislators-2020-3896
END:VEVENT

END:VCALENDAR
