BEGIN:VCALENDAR
VERSION:2.0
PRODID:-//ChamberMaster//Event Calendar 2.0//EN
METHOD:PUBLISH
X-PUBLISHED-TTL:P3D
REFRESH-INTERVAL:P3D
CALSCALE:GREGORIAN
BEGIN:VEVENT
DTSTART:20170712T153000Z
DTEND:20170712T173000Z
X-MICROSOFT-CDO-ALLDAYEVENT:FALSE
SUMMARY:Lunch & Learn Series
DESCRIPTION:REGISTRATION FOR THIS EVENT IS CLOSED\n\n\n\nJoin us for an informal and insightful conversation with Jim Siplon\, Chief Water and Operating Officer\, JUST.\n\n \n\nEnjoy a delicious lunch\, robust dialogue and an opportunity to learn more about the individual making a difference worldwide\; from the Adirondacks in Upstate NY.\n\n \nThis program invites networking and introductions amongst peers during lunch and welcomes interactive audience participation. Bring your business cards\, questions for Jim and even an aspiring college student to learn more about what our region offers.\n\n\n \n\nJim has an undergraduate degree in astrophysics from Utah State University and an MBA from Boston University. He has more than 20 years of experience in water\, industrial operations and technology\, after 8 years as an officer in the US Air Force. \n\n\n\nJim has held senior positions at MCI\, GE\, Roll International and Teleflora\, before becoming the Managing Director of Fiji Water. It was in Fiji\, that Jim became aware of the need for innovation in the industrial water space\, while trying to reduce Fiji Water's carbon footprint and water intensity. Upon leaving Fiji\, Jim led large scale water efforts in New Zealand\, Africa and the US\, joining JUST in 2014.
X-ALT-DESC;FMTTYPE=text/html:<div><span style="color: rgb(0\, 0\, 0)\; font-family: Tahoma\, Arial\, sans-serif\; font-size: 14.6667px\; font-style: normal\; font-variant-ligatures: normal\; font-variant-caps: normal\; font-weight: normal\; letter-spacing: normal\; orphans: 2\; text-align: start\; text-indent: 0px\; text-transform: none\; white-space: normal\; widows: 2\; word-spacing: 0px\; -webkit-text-stroke-width: 0px\; background-color: rgb(255\, 255\, 255)\; text-decoration-style: initial\; text-decoration-color: initial\;">REGISTRATION FOR THIS EVENT IS CLOSED<br />\n<br />\nJoin us for an informal and insightful conversation with Jim Siplon\, Chief Water and Operating Officer\,<strong> <a _mce_href="http://www.justwater.com/" _mce_shape="rect" _mce_style="color: blue !important\; text-decoration: underline !important\;" href="http://www.justwater.com/" shape="rect" style="color: blue !important\; text-decoration: underline !important\;" target="_blank">JUST</a>.</strong></span></div>\n\n<div style="color: rgb(0\, 0\, 0)\; font-family: Tahoma\, Arial\, sans-serif\; font-size: 14.6667px\; font-style: normal\; font-variant-ligatures: normal\; font-variant-caps: normal\; font-weight: normal\; letter-spacing: normal\; orphans: 2\; text-align: start\; text-indent: 0px\; text-transform: none\; white-space: normal\; widows: 2\; word-spacing: 0px\; -webkit-text-stroke-width: 0px\; background-color: rgb(255\, 255\, 255)\; text-decoration-style: initial\; text-decoration-color: initial\;">&nbsp\;</div>\n\n<div style="color: rgb(0\, 0\, 0)\; font-family: Tahoma\, Arial\, sans-serif\; font-size: 14.6667px\; font-style: normal\; font-variant-ligatures: normal\; font-variant-caps: normal\; font-weight: normal\; letter-spacing: normal\; orphans: 2\; text-align: start\; text-indent: 0px\; text-transform: none\; white-space: normal\; widows: 2\; word-spacing: 0px\; -webkit-text-stroke-width: 0px\; background-color: rgb(255\, 255\, 255)\; text-decoration-style: initial\; text-decoration-color: initial\;"><span _mce_style="font-weight: normal\;" style="font-weight: normal\;">Enjoy a delicious lunch\, robust dialogue and an opportunity to learn more about the individual making a difference worldwide\; from the Adirondacks in Upstate NY.</span><br />\n&nbsp\;\n<div style="color: rgb(0\, 0\, 0)\; font-family: Tahoma\,Arial\,sans-serif\; font-size: 14.6667px\; font-style: normal\; font-variant-ligatures: normal\; font-variant-caps: normal\; font-weight: normal\; letter-spacing: normal\; text-indent: 0px\; text-transform: none\; white-space: normal\; word-spacing: 0px\; -webkit-text-stroke-width: 0px\; background-color: rgb(255\, 255\, 255)\; text-decoration-style: initial\; text-decoration-color: initial\;">This program invites networking and introductions amongst peers during lunch&nbsp\;and welcomes&nbsp\;<span _mce_style="font-size: 14.6667px\;" style="font-size: 14.6667px\;">interactive audience participation. Bring your business cards\, questions for Jim and even an aspiring college student to </span><span _mce_style="font-size: 14.6667px\;" style="font-size: 14.6667px\;">learn more about what&nbsp\;our region offers.</span></div>\n</div>\n\n<div _mce_style="font-size: 11pt\; color: #000000\;" style="color: rgb(0\, 0\, 0)\; font-family: Tahoma\,Arial\,sans-serif\; font-size: 11pt\; font-style: normal\; font-variant-ligatures: normal\; font-variant-caps: normal\; font-weight: normal\; letter-spacing: normal\; text-indent: 0px\; text-transform: none\; white-space: normal\; word-spacing: 0px\; -webkit-text-stroke-width: 0px\; background-color: rgb(255\, 255\, 255)\; text-decoration-style: initial\; text-decoration-color: initial\;">&nbsp\;</div>\n\n<div style="color: rgb(0\, 0\, 0)\; font-family: Tahoma\, Arial\, sans-serif\; font-size: 14.6667px\; font-style: normal\; font-variant-ligatures: normal\; font-variant-caps: normal\; font-weight: normal\; letter-spacing: normal\; orphans: 2\; text-align: start\; text-indent: 0px\; text-transform: none\; white-space: normal\; widows: 2\; word-spacing: 0px\; -webkit-text-stroke-width: 0px\; background-color: rgb(255\, 255\, 255)\; text-decoration-style: initial\; text-decoration-color: initial\;"><span>Jim has an undergraduate degree in astrophysics from Utah State University and an MBA from Boston University. He has more than 20 years of experience in water\, industrial operations and technology\, after 8 years as an officer in the US Air Force.&nbsp\;</span><br />\n<br />\n<span _mce_style="font-size: 11pt\;" style="font-size: 11pt\;">Jim has held senior positions at MCI\, GE\, Roll International and Teleflora\, before becoming the Managing Director of Fiji Water. It was in Fiji\,&nbsp\;that Jim became aware of the need for innovation in the industrial water space\, while trying to reduce Fiji Water&#39\;s carbon footprint and water intensity. Upon leaving Fiji\, Jim led large scale water efforts in New Zealand\, Africa and the US\, joining <strong>JUST</strong> in 2014.</span></div>\n
LOCATION:The Queensbury Hotel 88 Ridge St Glens Falls\, NY 12801
UID:e.1842.1069
SEQUENCE:3
DTSTAMP:20260426T020101Z
URL:http://business.adirondackchamber.org/events/details/lunch-learn-series-1069
END:VEVENT

END:VCALENDAR
