BEGIN:VCALENDAR
VERSION:2.0
PRODID:-//ChamberMaster//Event Calendar 2.0//EN
METHOD:PUBLISH
X-PUBLISHED-TTL:P3D
REFRESH-INTERVAL:P3D
CALSCALE:GREGORIAN
BEGIN:VEVENT
DTSTART:20200312T153000Z
DTEND:20200312T173000Z
X-MICROSOFT-CDO-ALLDAYEVENT:FALSE
SUMMARY:Lunch & Learn: Navigating HR as a Small Business Owner
DESCRIPTION:As a small business owner\, navigating your human resources responsibilities can be a challenge.  This session is an introduction to HR for the small business owner\, including\, but not limited to topics like employee classification\, new regulations for sexual harassment training\, hiring and compensation\, PFL requirements\, the importance of culture and employee engagements\, understanding our diverse workforce\, the need for HR analytics and the true value of HR expertise.\n\n\n\nRose Miller\, President of Pinnacle Human Resources\, will be presenting on these topics.\n\n\n\n*ARCC's Cancelation Policy: A registration is a reservation and we look forward to you joining us. To best support our venue partners and event attendees\, a refund for any reservation will require 72 hours notice for cancellation. Reserved no shows will be charged the full price. We encourage you to send a co-worker\, peer\, vendor or customer if you're not able to make it and giving notice wasn't optional.
X-ALT-DESC;FMTTYPE=text/html:<span style="color:#000000\;">As a small business owner\, navigating your human resources responsibilities can be a challenge.&nbsp\; This session is an introduction to HR for the small business owner\, including\, but not limited to topics like employee classification\, new regulations for sexual harassment training\, hiring and compensation\, PFL requirements\, the importance of culture and employee engagements\, understanding our diverse workforce\, the need for HR analytics and the true value of HR expertise.<br />\n<br />\nRose Miller\, President of Pinnacle Human Resources\, will be presenting on these topics.</span><br />\n<br />\n<span style="color:#000000\;"><span style="font-size:11px\;"><em>*ARCC&#39\;s Cancelation Policy: A registration is a reservation and we look forward to you joining us. To best support our venue partners and event attendees\, a refund for any reservation will require 72 hours notice for cancellation. Reserved no shows will be charged the full price. We encourage you to send a co-worker\, peer\, vendor or customer if you&#39\;re not able to make it and giving notice wasn&#39\;t optional.</em></span></span><br />\n&nbsp\;
LOCATION:The Log Jam Restaurant 1484 US Route 9 Lake George\, NY 12845
UID:e.1842.3905
SEQUENCE:3
DTSTAMP:20260421T204901Z
URL:http://business.adirondackchamber.org/events/details/lunch-learn-navigating-hr-as-a-small-business-owner-3905
END:VEVENT

END:VCALENDAR
