BEGIN:VCALENDAR
VERSION:2.0
PRODID:-//ChamberMaster//Event Calendar 2.0//EN
METHOD:PUBLISH
X-PUBLISHED-TTL:P3D
REFRESH-INTERVAL:P3D
CALSCALE:GREGORIAN
BEGIN:VEVENT
DTSTART:20170712T130000Z
DTEND:20170712T140000Z
X-MICROSOFT-CDO-ALLDAYEVENT:FALSE
SUMMARY:Leadership Adirondack Informational Session
DESCRIPTION:The ARCC Leadership Adirondack program is one of the most effective and prestigious programs in the region. The program is open to members and potential members of the ARCC.\n\n\n\nIdeal candidates for participation are individuals who have demonstrated leadership in their respective careers and have a strong desire to be a part of the growth in our region. Individuals must be willing to devote time necessary to participate fully in all class sessions and community project completion.\n\n\n\nCome see what it's all about at our info sessions!\n\nFuture session date:\n\nJuly 27th at 3:00 pm
X-ALT-DESC;FMTTYPE=text/html:The ARCC Leadership Adirondack program is one of the most effective and prestigious programs in the region. The program is open to members and potential members of the ARCC.<br />\n<br />\nIdeal candidates for participation are individuals who have demonstrated leadership in their respective careers and have a strong desire to be a part of the growth in our region. Individuals must be willing to devote time necessary to participate fully in all class sessions and community project completion.<br />\n<br />\nCome see what it&#39\;s all about at our info sessions!<br />\nFuture session date:<br />\nJuly 27th at 3:00 pm
LOCATION:ARCC Office 136 Glen Street\, Suite 3 (2nd Floor) Glens Falls\, NY 12801
UID:e.1842.1073
SEQUENCE:3
DTSTAMP:20260426T021312Z
URL:http://business.adirondackchamber.org/events/details/leadership-adirondack-informational-session-1073
END:VEVENT

END:VCALENDAR
