BEGIN:VCALENDAR
VERSION:2.0
PRODID:-//ChamberMaster//Event Calendar 2.0//EN
METHOD:PUBLISH
X-PUBLISHED-TTL:P3D
REFRESH-INTERVAL:P3D
CALSCALE:GREGORIAN
BEGIN:VEVENT
DTSTART:20190716T140000Z
DTEND:20190716T150000Z
X-MICROSOFT-CDO-ALLDAYEVENT:FALSE
SUMMARY:Leadership Adirondack Info Session
DESCRIPTION:The Adirondack Regional Chamber of Commerce (ARCC) is thrilled to offer our Leadership Adirondack Program for 2019-20. We invite you to attend one of our informational sessions to learn more about this dynamic program.\n\n \nWhat is Leadership Adirondack?\n\n \n\nFor almost 30 years\, the ARCC has been offering a community leadership program\, designed to provide a better understanding of our growing region and motivate participants to make a difference in their organization and greater business community. The Leadership Adirondack program is designed for individuals who have demonstrated leadership traits in their organizations and have a strong desire to be better informed and involved in their communities.\n\n \n\nIf this sounds of interest to you or one of your employees\, please attend one of our info sessions to learn more.\n\n\n\nCan't make it to an info session\, or just have questions? Please contact Cheryl Stanko by email at cstanko@adirondackchamber.org or by phone at 518.798.1761 X 236.
X-ALT-DESC;FMTTYPE=text/html:<span style="color:#000000\;"><strong>The Adirondack Regional Chamber of Commerce (ARCC) is thrilled to offer our Leadership Adirondack Program for 2019-20. We invite you to attend one of our informational sessions to learn more about this dynamic program.</strong></span><br />\n&nbsp\;\n<div><strong><em><span style="color:#000000\;">What is Leadership Adirondack?</span></em></strong></div>\n\n<div>&nbsp\;</div>\n\n<div><span style="color:#000000\;">For almost 30 years\, the ARCC has been offering a community leadership program\, designed to provide a better understanding of our growing region and motivate participants to make a difference in their organization and greater business community. The Leadership Adirondack program is designed for individuals who have demonstrated leadership traits in their organizations and have a strong desire to be better informed and involved in their communities.</span></div>\n\n<div>&nbsp\;</div>\n\n<div><span style="color:#000000\;"><strong>If this sounds of interest to you or one of your employees\, please attend one of our info sessions to learn more.</strong></span><br />\n<br />\n<strong>Can&#39\;t make it to an info session\, or just have questions?</strong> Please contact Cheryl Stanko by email at <strong><a href="mailto:cstanko@adirondackchamber.org?subject=Leadership%20Adirondack%20Inquiry"><span style="color:#0000FF\;">cstanko@adirondackchamber.org</span></a></strong> or by phone at <strong>518.798.1761 X 236</strong>.</div>\n
LOCATION:ARCC Office 136 Glen Street\, Suite 3 (2nd floor) Glens Falls\, NY 12801
UID:e.1842.3835
SEQUENCE:3
DTSTAMP:20260422T104305Z
URL:http://business.adirondackchamber.org/events/details/leadership-adirondack-info-session-3835
END:VEVENT

END:VCALENDAR
