BEGIN:VCALENDAR
VERSION:2.0
PRODID:-//ChamberMaster//Event Calendar 2.0//EN
METHOD:PUBLISH
X-PUBLISHED-TTL:P3D
REFRESH-INTERVAL:P3D
CALSCALE:GREGORIAN
BEGIN:VEVENT
DTSTART:20190910T210000Z
DTEND:20190910T230000Z
X-MICROSOFT-CDO-ALLDAYEVENT:FALSE
SUMMARY:Leadership Adirondack Get Acquainted Event
DESCRIPTION:The Get Acquainted event is the official kick-off to our Leadership Adirondack (LADK) program. Program participants have the opportunity to get acquainted with each other\, while meeting LADK alumni\, program sponsors and partners.
X-ALT-DESC;FMTTYPE=text/html:The <em>Get Acquainted</em> event is the official kick-off to our Leadership Adirondack (LADK) program. Program participants have the opportunity to get acquainted with each other\, while meeting LADK alumni\, program sponsors and partners.
LOCATION:The Bullpen Tavern 216 Glen Street Glens Falls\, NY 12801
UID:e.1842.3844
SEQUENCE:3
DTSTAMP:20260422T072739Z
URL:http://business.adirondackchamber.org/events/details/leadership-adirondack-get-acquainted-event-3844
END:VEVENT

END:VCALENDAR
