BEGIN:VCALENDAR
VERSION:2.0
PRODID:-//ChamberMaster//Event Calendar 2.0//EN
METHOD:PUBLISH
X-PUBLISHED-TTL:P3D
REFRESH-INTERVAL:P3D
CALSCALE:GREGORIAN
BEGIN:VEVENT
DTSTART:20170914T210000Z
DTEND:20170914T230000Z
X-MICROSOFT-CDO-ALLDAYEVENT:FALSE
SUMMARY:Leadership Adirondack Get Acquainted
DESCRIPTION:Come and support the 2017-2018 Leadership Adirondack class. Class members will have the opportunity to meet each other\, as well as get to know alumni from previous classes. Finger foods and cash bar with drink specials will be available.\n\n\n\nAlumni and class sponsors are especially welcomed to join us! \n\n\n\n*ARCC's Cancelation Policy: A registration is a reservation and we look forward to you joining us.  To best support our venue partners and event attendees\, a refund for any reservation will require 72 hours notice for cancellation. Reserved no shows will be charged the full price. We encourage you to send a co-worker\, peer\, vendor or customer if you're not able to make it and giving notice wasn't optional.\n\n\n\nARCC Not Yet Member Attendance Policy\n\nThe Adirondack Regional Chamber of Commerce schedules and hosts some of the MUST ATTEND events in the tri-county region and are Member Only benefits to maximize networking with like-minded\, civic and community leaders that commit to best business practices. To find out why our members grow\, succeed and thrive\, we invite NOT YET Members to attend 1 (one) regularly scheduled event per calendar year at a Not Yet Member admission fee (if applicable). A non-qualifying member is defined as any business and the employees or representatives with unpaid dues for membership of the ARCC.
X-ALT-DESC;FMTTYPE=text/html:Come and support the 2017-2018 Leadership Adirondack class.&nbsp\;Class members will have the opportunity to meet each other\, as well as get to know alumni from previous classes. Finger foods and cash bar with drink specials will be available.<br />\n<br />\nAlumni and class sponsors are especially welcomed to join us!&nbsp\;<br />\n<br />\n<span style="font-size:11px\;"><span style="font-family: arial\,sans-serif\;">*</span><span style="font-family: arial\,sans-serif\;">ARCC&#39\;s</span><span style="font-family: arial\,sans-serif\;">&nbsp\;Cancelation Policy: A registration is a reservation and we look forward to you joining us. &nbsp\;To best support our venue partners and event attendees\, a refund for any reservation will require 72 hours notice for&nbsp\;cancellation. Reserved no shows will be charged the full price. We encourage you to send a co-worker\, peer\, vendor or customer if you&#39\;re not able to make it and giving notice wasn&#39\;t optional.</span><br />\n<br />\n<span style="font-family: arial\,sans-serif\;">ARCC</span><span style="font-family: arial\,sans-serif\;">&nbsp\;Not Yet Member Attendance Policy<br />\nThe Adirondack Regional Chamber of Commerce schedules and hosts some of the MUST ATTEND events in the tri-county region and are Member Only benefits to maximize networking with like-minded\, civic and community leaders that commit to best business practices. To find out why our members grow\, succeed and thrive\, we invite NOT YET Members to attend 1 (one) regularly scheduled event per calendar year at a Not Yet Member admission fee (if applicable). A non-qualifying member is defined as any business and the employees or representatives with unpaid dues for membership of the&nbsp\;ARCC.</span></span>
LOCATION:The Bullpen Tavern 216 Glen Street Glens Falls\, NY 12801
UID:e.1842.1092
SEQUENCE:3
DTSTAMP:20260425T225726Z
URL:http://business.adirondackchamber.org/events/details/leadership-adirondack-get-acquainted-1092
END:VEVENT

END:VCALENDAR
