BEGIN:VCALENDAR
VERSION:2.0
PRODID:-//ChamberMaster//Event Calendar 2.0//EN
METHOD:PUBLISH
X-PUBLISHED-TTL:P3D
REFRESH-INTERVAL:P3D
CALSCALE:GREGORIAN
BEGIN:VEVENT
DTSTART:20220616T213000Z
DTEND:20220616T230000Z
X-MICROSOFT-CDO-ALLDAYEVENT:FALSE
SUMMARY:June 2022 ARCC Women's Business Council Meeting
DESCRIPTION:We are hoping you can join us for the last ARCC Women's Business Council (WBC) meeting before we take our Summer break! Join us for a tour of the newly updated Sembrich and enjoy some wine and snacks overlooking beautiful Lake George. \n\n\n\nThe meeting is on Thursday\, June 16th from 5:30 pm - 7 pm.\n\n\n\nWe will get a chance to meet and hear from WBC Leadership position nominees\, and also reflect on the last year with special remarks from current WBC Leadership. And finally\, we will round out the meeting with some light networking. Here are some questions to prep you for the networking:\n\n\n	Will you be taking a break this Summer\, or is it business as usual?\n	What did you get out of the WBC this past year?\n	What goals did you accomplish so far in 2022?\n	What are you looking forward to in the second half of 2022?
X-ALT-DESC;FMTTYPE=text/html:<p>We are hoping you can join us for the last ARCC Women&#39\;s Business Council (WBC) meeting before we take our Summer break! Join us for a tour of the newly updated Sembrich and enjoy some wine and snacks overlooking beautiful Lake George.&nbsp\;<br />\n<br />\n<strong>The meeting is on Thursday\, June 16th from 5:30 pm - 7 pm.</strong><br />\n<br />\nWe will get a chance to meet and hear from WBC Leadership position nominees\, and also reflect on the last year with special remarks from current WBC Leadership. And finally\, we will round out the meeting with some light networking. <strong>Here are some questions to prep you for the networking:</strong></p>\n\n<ul>\n	<li style="margin-left:0in\;">Will you be taking a break this Summer\, or is it business as usual?</li>\n	<li style="margin-left:0in\;">What did you get out of the WBC this past year?</li>\n	<li style="margin-left:0in\;">What goals did you accomplish so far in 2022?</li>\n	<li style="margin-left:0in\;">What are you looking forward to in the second half of 2022?</li>\n</ul>\n
LOCATION:The Sembrich 4800 Lake Shore Drive Bolton Landing\, NY 12814
UID:e.1842.4232
SEQUENCE:3
DTSTAMP:20260420T011638Z
URL:http://business.adirondackchamber.org/events/details/june-2022-arcc-women-s-business-council-meeting-4232
END:VEVENT

END:VCALENDAR
