BEGIN:VCALENDAR
VERSION:2.0
PRODID:-//ChamberMaster//Event Calendar 2.0//EN
METHOD:PUBLISH
X-PUBLISHED-TTL:P3D
REFRESH-INTERVAL:P3D
CALSCALE:GREGORIAN
BEGIN:VEVENT
DTSTART:20191002T153000Z
DTEND:20191002T173000Z
X-MICROSOFT-CDO-ALLDAYEVENT:FALSE
SUMMARY:Is Your Networking Not Working? ARCC Lunch & Learn
DESCRIPTION:Join Luke Scarchilli\, of Sandler Training\, and Gail Hamel\, of Hamel Resources L.L.C.\, for effective networking strategies that you can implement immediately. \n\n \n\nMastering the art of networking\, branding your professional image and building relationships is key to your professional success.\n\n \n\n	Do you find networking overwhelming and/or intimidating?\n	Are you projecting your best professional image to foster trust and respect from others?\n	Do you struggle with how you introduce yourself to new business relationships?\n\n\n\nARCC's Cancellation Policy: A registration is a reservation and we look forward to you joining us. To best support our venue partners and event attendees\, a refund for any reservation will require 72 hours notice for cancellation. Reserved no shows will be charged the full price. We encourage you to send a co-worker\, peer\, vendor or customer if you're not able to make it and giving notice wasn't optional.
X-ALT-DESC;FMTTYPE=text/html:Join Luke Scarchilli\, of <a href="https://www.winningprocess.sandler.com/" target="_blank">Sandler Training</a>\, and Gail Hamel\, of <a href="http://www.hamelresources.com/" target="_blank">Hamel Resources L.L.C.</a>\, for effective networking strategies that you can implement immediately.&nbsp\;<br />\n&nbsp\;<br />\nMastering the art of networking\, branding your professional image and building relationships is key to your professional success.<br />\n&nbsp\;\n<ul>\n	<li>Do you find networking overwhelming and/or intimidating?</li>\n	<li>Are you projecting your best professional image to foster trust and respect from others?</li>\n	<li>Do you struggle with how you introduce yourself to new&nbsp\;business relationships?</li>\n</ul>\n<br />\n<span style="font-size:11px\;"><span style="color:#000000\;"><em>ARCC&#39\;s Cancellation Policy: A registration is a reservation and we look forward to you joining us. To best support our venue partners and event attendees\, a refund for any reservation will require 72 hours notice for cancellation. Reserved no shows will be charged the full price. We encourage you to send a co-worker\, peer\, vendor or customer if you&#39\;re not able to make it and giving notice wasn&#39\;t optional.</em></span></span><br />\n&nbsp\;
LOCATION:Top of the World Golf Course 441 Lockhart Mountain Road Lake George\, NY 12845
UID:e.1842.3849
SEQUENCE:3
DTSTAMP:20260422T053420Z
URL:http://business.adirondackchamber.org/events/details/is-your-networking-not-working-arcc-lunch-learn-3849
END:VEVENT

END:VCALENDAR
