BEGIN:VCALENDAR
VERSION:2.0
PRODID:-//ChamberMaster//Event Calendar 2.0//EN
METHOD:PUBLISH
X-PUBLISHED-TTL:P3D
REFRESH-INTERVAL:P3D
CALSCALE:GREGORIAN
BEGIN:VEVENT
DTSTART:20190430T113000Z
DTEND:20190430T123000Z
X-MICROSOFT-CDO-ALLDAYEVENT:FALSE
SUMMARY:Introductory Women's Business Council Meeting
DESCRIPTION:We have reached maximum capacity for this introductory meeting. Please stay tuned for future meeting dates.\n\n\n\nThe ARCC is excited to announce the kick-off of the ARCC women's business council. The purpose of the council is to promote the affinity group of women-owned businesses\, sole proprietorships\, and women professional members of the ARCC to encourage increased business and collaboration among its ranks.\n\n \n\nThe first meeting will be held on April 30th\, from 7:30 - 8:30 am at Rachel's Spice Cafe & Co. This is an introductory/informational meeting for women to attend and learn more about the council.\n\n \n\nWe hope you can join us!
X-ALT-DESC;FMTTYPE=text/html:<div><span style="color:#000000\;"><strong>We have reached maximum capacity for this introductory meeting. Please stay tuned for future meeting dates.</strong><br />\n<br />\nThe ARCC is excited to announce the kick-off of the ARCC women&#39\;s business council. The purpose of the council is to promote the affinity group of women-owned businesses\, sole proprietorships\, and women professional members of the ARCC to encourage increased business and collaboration among its ranks.</span></div>\n\n<div>&nbsp\;</div>\n\n<div><span style="color:#000000\;">The first meeting will be held on April 30th\, from 7:30 - 8:30 am at Rachel&#39\;s Spice Cafe &amp\; Co. This is an introductory/informational meeting for women to attend and learn more about the council.</span></div>\n\n<div>&nbsp\;</div>\n\n<div><span style="color:#000000\;"><strong><em>We hope you can join us!</em></strong></span></div>\n
LOCATION:Rachel's Spice Cafe & Co. 240 Warren Street Glens Falls\, NY 12801
UID:e.1842.3668
SEQUENCE:3
DTSTAMP:20260424T153700Z
URL:http://business.adirondackchamber.org/events/details/introductory-women-s-business-council-meeting-3668
END:VEVENT

END:VCALENDAR
