BEGIN:VCALENDAR
VERSION:2.0
PRODID:-//ChamberMaster//Event Calendar 2.0//EN
METHOD:PUBLISH
X-PUBLISHED-TTL:P3D
REFRESH-INTERVAL:P3D
CALSCALE:GREGORIAN
BEGIN:VEVENT
DTSTART:20171129T170000Z
DTEND:20171129T200000Z
X-MICROSOFT-CDO-ALLDAYEVENT:FALSE
SUMMARY:Internship Fair at SUNY Adirondack
DESCRIPTION:The Adirondack Regional Partnership for Career Readiness Presents the\n\nInternship Fair at SUNY Adirondack\n\n \n\nAre you looking to find new team members to grow your business? Have you considered offering internships at your organization?  If you answered yes to either of these questions\, consider participating in the Internship Fair\, at SUNY Adirondack\, on Wednesday\, November 29th from 12:00 - 3:00 pm.\n\n \n\nThis internship fair invites local high school and college students to discover employersand future job opportunities. This is a great way to connect to tomorrow's work force!\n\n \n\nParticipation at the fair is FREE. More information on how to register here.
X-ALT-DESC;FMTTYPE=text/html:<div _mce_style="font-size: 11pt\;" style="color: rgb(0\, 0\, 0)\; font-family: Tahoma\, Arial\, sans-serif\; font-style: normal\; font-variant-ligatures: normal\; font-variant-caps: normal\; font-weight: normal\; letter-spacing: normal\; orphans: 2\; text-align: center\; text-indent: 0px\; text-transform: none\; white-space: normal\; widows: 2\; word-spacing: 0px\; -webkit-text-stroke-width: 0px\; background-color: rgb(255\, 255\, 255)\; text-decoration-style: initial\; text-decoration-color: initial\; font-size: 11pt\;"><strong>The&nbsp\;<span>Adirondack Regional Partnership for Career Readiness Presents the</span></strong></div>\n\n<div _mce_style="font-family: Tahoma\, Arial\, sans-serif\; color: #008000\;" style="font-family: Tahoma\, Arial\, sans-serif\; font-size: 24px\; font-style: normal\; font-variant-ligatures: normal\; font-variant-caps: normal\; font-weight: normal\; letter-spacing: normal\; orphans: 2\; text-align: center\; text-indent: 0px\; text-transform: none\; white-space: normal\; widows: 2\; word-spacing: 0px\; -webkit-text-stroke-width: 0px\; background-color: rgb(255\, 255\, 255)\; text-decoration-style: initial\; text-decoration-color: initial\; color: rgb(0\, 128\, 0)\;"><strong>Internship Fair at&nbsp\;SUNY Adirondack</strong></div>\n\n<div _mce_style="font-family: Tahoma\, Arial\, sans-serif\;" style="color: rgb(0\, 0\, 0)\; font-family: Tahoma\, Arial\, sans-serif\; font-size: 24px\; font-style: normal\; font-variant-ligatures: normal\; font-variant-caps: normal\; font-weight: normal\; letter-spacing: normal\; orphans: 2\; text-align: center\; text-indent: 0px\; text-transform: none\; white-space: normal\; widows: 2\; word-spacing: 0px\; -webkit-text-stroke-width: 0px\; background-color: rgb(255\, 255\, 255)\; text-decoration-style: initial\; text-decoration-color: initial\;">&nbsp\;</div>\n\n<div _mce_style="font-family: Tahoma\, Arial\, sans-serif\; font-size: 11pt\;" style="color: rgb(0\, 0\, 0)\; font-family: Tahoma\, Arial\, sans-serif\; font-style: normal\; font-variant-ligatures: normal\; font-variant-caps: normal\; font-weight: normal\; letter-spacing: normal\; orphans: 2\; text-align: center\; text-indent: 0px\; text-transform: none\; white-space: normal\; widows: 2\; word-spacing: 0px\; -webkit-text-stroke-width: 0px\; background-color: rgb(255\, 255\, 255)\; text-decoration-style: initial\; text-decoration-color: initial\; font-size: 11pt\;"><em>Are you looking to find new team members to grow your business? Have you considered offering internships at your organization?</em>&nbsp\; If you answered yes to either of these questions\, consider participating in the<span>&nbsp\;</span><a _mce_href="https://www.collegecentral.com/CCNEngine/LiveEvents/LiveEvents.cfm?EventID=3037" _mce_shape="rect" _mce_style="color: #0000ff\; text-decoration: underline\;" href="https://www.collegecentral.com/CCNEngine/LiveEvents/LiveEvents.cfm?EventID=3037" shape="rect" style="color: rgb(0\, 0\, 255) !important\; text-decoration: underline !important\;" target="_blank">Internship Fair\, at SUNY Adirondack</a>\, on<span>&nbsp\;</span><strong>Wednesday\, November 29th from 12:00 - 3:00 pm</strong>.</div>\n\n<div _mce_style="font-family: Tahoma\, Arial\, sans-serif\; font-size: 11pt\;" style="color: rgb(0\, 0\, 0)\; font-family: Tahoma\, Arial\, sans-serif\; font-style: normal\; font-variant-ligatures: normal\; font-variant-caps: normal\; font-weight: normal\; letter-spacing: normal\; orphans: 2\; text-align: center\; text-indent: 0px\; text-transform: none\; white-space: normal\; widows: 2\; word-spacing: 0px\; -webkit-text-stroke-width: 0px\; background-color: rgb(255\, 255\, 255)\; text-decoration-style: initial\; text-decoration-color: initial\; font-size: 11pt\;">&nbsp\;</div>\n\n<div _mce_style="font-family: Tahoma\, Arial\, sans-serif\; font-size: 11pt\;" style="color: rgb(0\, 0\, 0)\; font-family: Tahoma\, Arial\, sans-serif\; font-style: normal\; font-variant-ligatures: normal\; font-variant-caps: normal\; font-weight: normal\; letter-spacing: normal\; orphans: 2\; text-align: center\; text-indent: 0px\; text-transform: none\; white-space: normal\; widows: 2\; word-spacing: 0px\; -webkit-text-stroke-width: 0px\; background-color: rgb(255\, 255\, 255)\; text-decoration-style: initial\; text-decoration-color: initial\; font-size: 11pt\;">This internship fair invites local high school and college students to discover employersand future job opportunities. This is a great way to connect to tomorrow&#39\;s work force!</div>\n\n<div _mce_style="font-family: Tahoma\, Arial\, sans-serif\; font-size: 11pt\;" style="color: rgb(0\, 0\, 0)\; font-family: Tahoma\, Arial\, sans-serif\; font-style: normal\; font-variant-ligatures: normal\; font-variant-caps: normal\; font-weight: normal\; letter-spacing: normal\; orphans: 2\; text-align: center\; text-indent: 0px\; text-transform: none\; white-space: normal\; widows: 2\; word-spacing: 0px\; -webkit-text-stroke-width: 0px\; background-color: rgb(255\, 255\, 255)\; text-decoration-style: initial\; text-decoration-color: initial\; font-size: 11pt\;">&nbsp\;</div>\n\n<div _mce_style="font-family: Tahoma\, Arial\, sans-serif\; font-size: 11pt\;" style="color: rgb(0\, 0\, 0)\; font-family: Tahoma\, Arial\, sans-serif\; font-style: normal\; font-variant-ligatures: normal\; font-variant-caps: normal\; font-weight: normal\; letter-spacing: normal\; orphans: 2\; text-align: center\; text-indent: 0px\; text-transform: none\; white-space: normal\; widows: 2\; word-spacing: 0px\; -webkit-text-stroke-width: 0px\; background-color: rgb(255\, 255\, 255)\; text-decoration-style: initial\; text-decoration-color: initial\; font-size: 11pt\;"><strong>Participation at the fair is FREE. More information on how to<span>&nbsp\;</span><a _mce_href="https://www.collegecentral.com/CCNEngine/LiveEvents/LiveEvents.cfm?EventID=3037" _mce_shape="rect" _mce_style="color: #0000ff\; text-decoration: underline\;" href="https://www.collegecentral.com/CCNEngine/LiveEvents/LiveEvents.cfm?EventID=3037" shape="rect" style="color: rgb(0\, 0\, 255) !important\; text-decoration: underline !important\;" target="_blank">register here</a>.</strong></div>\n
LOCATION:SUNY Adirondack 640 Bay Road\, Queensbury\, NY 12804 Residence Hall\, Multipurpose Room 170
UID:e.1842.1104
SEQUENCE:3
DTSTAMP:20260425T192357Z
URL:http://business.adirondackchamber.org/events/details/internship-fair-at-suny-adirondack-1104
END:VEVENT

END:VCALENDAR
