BEGIN:VCALENDAR
VERSION:2.0
PRODID:-//ChamberMaster//Event Calendar 2.0//EN
METHOD:PUBLISH
X-PUBLISHED-TTL:P3D
REFRESH-INTERVAL:P3D
CALSCALE:GREGORIAN
BEGIN:VEVENT
DTSTART:20180322T213000Z
DTEND:20180322T223000Z
X-MICROSOFT-CDO-ALLDAYEVENT:FALSE
SUMMARY:Healthy Living for Your Brain and Body
DESCRIPTION:An education program by the Alzheimer's Association.  For centuries\, we've known that the health of the brain and the body are connected.  But now\, science is able to provide insights into how to make lifestyle choices that may help you keep your brain and body healthy as you age.  Join us to learn about research in the areas of diet and nutrition\, exercise\,cognitive activity and social engagement\, and use hands on tools to help you incorporate these recommendations into a plan for healthy aging.  for more information contact:  Lindsay Stanislowsky 518-888-5368.
X-ALT-DESC;FMTTYPE=text/html:An education program by the Alzheimer&#39\;s Association.&nbsp\; For centuries\, we&#39\;ve known that the health of the brain and the body are connected.&nbsp\; But now\, science is able to provide insights into how to make lifestyle choices that may help you keep your brain and body healthy as you age.&nbsp\; Join us to learn about research in the areas of diet and nutrition\, exercise\,cognitive activity and social engagement\, and use hands on tools to help you incorporate these recommendations into a plan for healthy aging.&nbsp\; for more information contact:&nbsp\; Lindsay Stanislowsky 518-888-5368.
LOCATION:Brookdale Queensbury\, 27 Woodvale Rd\, Queensbury NY
UID:e.1842.1174
SEQUENCE:3
DTSTAMP:20260425T123914Z
URL:http://business.adirondackchamber.org/events/details/healthy-living-for-your-brain-and-body-1174
END:VEVENT

END:VCALENDAR
