BEGIN:VCALENDAR
VERSION:2.0
PRODID:-//ChamberMaster//Event Calendar 2.0//EN
METHOD:PUBLISH
X-PUBLISHED-TTL:P3D
REFRESH-INTERVAL:P3D
CALSCALE:GREGORIAN
BEGIN:VEVENT
DTSTART:20190914T140000Z
DTEND:20190914T160000Z
X-MICROSOFT-CDO-ALLDAYEVENT:FALSE
SUMMARY:Glens Falls FitFest 2019
DESCRIPTION:The Glens Falls Collaborative and the Adirondack Regional Chamber of Commerce are thrilled to present FitFest 2019 on Saturday\, September 14th.\n\n\n\nFitFest is an event that showcases the health\, fitness and wellness organizations of the greater Glens Falls region.\n\n\n\nOn tap: Sample fitness classes\, interactive demonstrations\, healthy food for sale\, contests\, and music\, plus vendor booths with giveaways\, samples\, children's activities\, and information about organizations and services.
X-ALT-DESC;FMTTYPE=text/html:<span style="color:#000000\;"><strong>The Glens Falls Collaborative and the Adirondack Regional Chamber of Commerce are thrilled to present FitFest 2019 on Saturday\, September 14th.</strong><br />\n<br />\nFitFest is an event that showcases the health\, fitness and wellness organizations of the greater Glens Falls region.<br />\n<br />\nOn tap: Sample fitness classes\, interactive demonstrations\, healthy food for sale\, contests\, and music\, plus vendor booths with giveaways\, samples\, children&#39\;s activities\, and information about organizations and services.</span>
LOCATION:Glens Falls City Park Downtown Glens Falls\, NY 12801
UID:e.1842.3839
SEQUENCE:3
DTSTAMP:20260422T072924Z
URL:http://business.adirondackchamber.org/events/details/glens-falls-fitfest-2019-3839
END:VEVENT

END:VCALENDAR
