BEGIN:VCALENDAR
VERSION:2.0
PRODID:-//ChamberMaster//Event Calendar 2.0//EN
METHOD:PUBLISH
X-PUBLISHED-TTL:P3D
REFRESH-INTERVAL:P3D
CALSCALE:GREGORIAN
BEGIN:VEVENT
DTSTART:20200313T160000Z
DTEND:20200313T173000Z
X-MICROSOFT-CDO-ALLDAYEVENT:FALSE
SUMMARY:Food for Thought: Lunch to Learn Series #3
DESCRIPTION:Food for Thought - Lunch & Learn Series #3\n\n\n\nSponsored by the ARCC Women's Business Council (WBC)\, these Lunch & Learn Series are open to all Adirondack Regional Chamber of Commerce members! Join us in the Holden Room at Crandall Public Library from 12pm - 1:30 pm.\n\n\n\nCome and enjoy a facilitated discussion on the topic\, The Myths About Scaling Up - What the Big Players Won't Tell You. Deb Morris\, Co-Founder & President of Barkeater Chocolates\, LLC will walk you through her journey from start-up to getting by\, to getting ahead. We'll have a broad discussion to cover:\n\n	Learn about the pitfalls of scaling up and how "making it big" is sometimes code for "losing your shirt." \n	How to avoid the common mistakes many businesses make by trying to be all things to all people.
X-ALT-DESC;FMTTYPE=text/html:<span style="background:white\;"><span style="color:#333333\;"><span style="font-size:10.0pt\;">Food for Thought - Lunch &amp\; Learn Series #3</span></span></span><br />\n<br style="font-variant-ligatures:normal\;font-variant-caps:normal\;orphans:2\;text-align:start\;widows:2\;-webkit-text-stroke-width:0px\;text-decoration-style:initial\;word-spacing:0px\;" />\n<span style="color:#333333\;"><span style="font-size:10.0pt\;"><span style="background:white\;"><span style="font-variant-ligatures:normal\;font-variant-caps:normal\;orphans:2\;text-align:start\;widows:2\;-webkit-text-stroke-width:0px\;text-decoration-style:initial\;float:none\;word-spacing:0px\;">Sponsored by the ARCC Women&#39\;s Business Council (WBC)\, these Lunch &amp\; Learn Series are open to all Adirondack Regional Chamber of Commerce members! Join us in the Holden Room at Crandall Public Library from 12pm - 1:30 pm.</span></span><br style="font-variant-ligatures:normal\;font-variant-caps:normal\;orphans:2\;text-align:start\;widows:2\;-webkit-text-stroke-width:0px\;text-decoration-style:initial\;word-spacing:0px\;" />\n<br style="font-variant-ligatures:normal\;font-variant-caps:normal\;orphans:2\;text-align:start\;widows:2\;-webkit-text-stroke-width:0px\;text-decoration-style:initial\;word-spacing:0px\;" />\n<span style="background:white\;"><span style="font-variant-ligatures:normal\;font-variant-caps:normal\;orphans:2\;text-align:start\;widows:2\;-webkit-text-stroke-width:0px\;text-decoration-style:initial\;float:none\;word-spacing:0px\;">Come and enjoy a facilitated discussion on the topic\,&nbsp\;</span></span><em style="font-variant-ligatures:normal\;font-variant-caps:normal\;orphans:2\;text-align:start\;widows:2\;-webkit-text-stroke-width:0px\;text-decoration-style:initial\;word-spacing:0px\;"><span style="font-family:arial\,sans-serif\;">The Myths About Scaling Up - What the Big Players Won&#39\;t Tell You.</span></em><span style="background:white\;"><span style="font-variant-ligatures:normal\;font-variant-caps:normal\;orphans:2\;text-align:start\;widows:2\;-webkit-text-stroke-width:0px\;text-decoration-style:initial\;float:none\;word-spacing:0px\;">&nbsp\;Deb Morris\, Co-Founder &amp\; President of Barkeater Chocolates\, LLC will walk you through her journey from start-up to getting by\, to getting ahead. We&rsquo\;ll have a broad discussion to cover:</span></span></span></span>\n<ul>\n	<li><span style="background:white\;"><span style="color:#333333\;"><span style="font-size:10.0pt\;">Learn about the pitfalls of scaling up and how &quot\;making it big&quot\; is sometimes code for &quot\;losing your shirt.&quot\; </span></span></span></li>\n	<li><span style="background:white\;"><span style="color:#333333\;"><span style="font-size:10.0pt\;">How to avoid the common mistakes many businesses make by trying to be all things to all people.</span></span></span></li>\n</ul>\n
LOCATION:Crandall Public Library Holden Room 251 Glen Street Glens Falls\, NY 12801
UID:e.1842.3928
SEQUENCE:3
DTSTAMP:20260421T210135Z
URL:http://business.adirondackchamber.org/events/details/food-for-thought-lunch-to-learn-series-3-3928
END:VEVENT

END:VCALENDAR
