BEGIN:VCALENDAR
VERSION:2.0
PRODID:-//ChamberMaster//Event Calendar 2.0//EN
METHOD:PUBLISH
X-PUBLISHED-TTL:P3D
REFRESH-INTERVAL:P3D
CALSCALE:GREGORIAN
BEGIN:VEVENT
DTSTART:20200214T170000Z
DTEND:20200214T180000Z
X-MICROSOFT-CDO-ALLDAYEVENT:FALSE
SUMMARY:Food for Thought - Lunch to Learn Series #2
DESCRIPTION:Food for Thought - Lunch & Learn Series #2\n\n\n\nSponsored by the ARCC Women's Business Council (WBC)\, these Lunch & Learn Series are open to all Adirondack Regional Chamber of Commerce members! Join us in the Holden Room at Crandall Public Library from 12pm - 1:30 pm.\n\n\n\nCome and enjoy a facilitated discussion on the topic\, Knowing and Charging for your Value. We'll have a broad discussion covering:\n\n	Developing and holding price points that accurately reflect the value of your product or service. This will include moving from a time and labor approach to a money for value proposition.\n	How and when to work with those who are not able to afford your price.\n	Following up on collections\; requesting referrals\; and asking for the job without compromising your business model.
X-ALT-DESC;FMTTYPE=text/html:Food for Thought - Lunch &amp\; Learn Series #2<br />\n<br />\nSponsored by the ARCC Women&#39\;s Business Council (WBC)\, these Lunch &amp\; Learn Series are open to all Adirondack Regional Chamber of Commerce members! Join us in the Holden Room at Crandall Public Library from 12pm - 1:30 pm.<br />\n<br />\nCome and enjoy a facilitated discussion on the topic\,&nbsp\;<em>Knowing and Charging for your Value.</em>&nbsp\;We&#39\;ll have a broad discussion covering:\n<ul>\n	<li>Developing and holding price points that accurately reflect the value of your product or service. This will include moving from a time and labor approach to a money for value proposition.</li>\n	<li>How and when to work with those who are not able to afford your price.</li>\n	<li>Following up on collections\; requesting referrals\; and asking for the job without compromising your business model.</li>\n</ul>\n
LOCATION:Crandall Public Library Holden Room 251 Glen Street Glens Falls\, NY 12801
UID:e.1842.3913
SEQUENCE:3
DTSTAMP:20260421T224548Z
URL:http://business.adirondackchamber.org/events/details/food-for-thought-lunch-to-learn-series-2-3913
END:VEVENT

END:VCALENDAR
