BEGIN:VCALENDAR
VERSION:2.0
PRODID:-//ChamberMaster//Event Calendar 2.0//EN
METHOD:PUBLISH
X-PUBLISHED-TTL:P3D
REFRESH-INTERVAL:P3D
CALSCALE:GREGORIAN
BEGIN:VEVENT
DTSTART:20180313T113000Z
DTEND:20180313T130000Z
X-MICROSOFT-CDO-ALLDAYEVENT:FALSE
SUMMARY:Fixing the Problem\, Not the Symptoms - Professional Development Seminar
DESCRIPTION:Cause-Effect Thinking:\n\nBusiness operations are about cause and effect. Too often we focus on symptoms that problems create rather that delving into the root cause of the problem\, creating a stop-gap approach to problem solving.\n\nWhether your challenges reside in employee turnover\, supply chain\, operational processes and/or implementation\, utilizing the Root Cause Analysis approach to solving problems will enable your company or organization to identify the obstacles before committing valuable resources resulting in a more cost-effective approach with a higher success rate. This seminar\, presented by Leslie Kendall of Kendall Associates\, is designed to provide attendees with an overview of:\n\n\n\n- Overview of Root Cause Analysis as a process\n\n- Learn how Root Cause Analysis can pinpoint obstacles to success\n\n- How to utilize a Cause-Effect process to maximize performance\n\n- How to implement Cause-Effect thinking in the workplace to increase efficiency
X-ALT-DESC;FMTTYPE=text/html:<span style="font-size:14px\;"><span style="font-family: tahoma\;"><span style="padding-top: 0px\;"><span style="padding-top: 0px\;"><strong>Cause-Effect Thinking</strong>:</span></span><br />\n<span style="padding-top: 0px\;">Business operations are about cause and effect. Too often we focus on symptoms that problems create rather that delving into the root cause of the problem\, creating a stop-gap approach to problem solving.</span><br />\nWhether your challenges reside in employee turnover\, supply chain\, operational processes and/or implementation\, utilizing the Root Cause Analysis approach to solving problems will enable your company or organization to identify the obstacles before committing valuable resources resulting in a more cost-effective approach with a higher success rate. This seminar\, presented by Leslie Kendall of Kendall Associates\, is designed to provide attendees with an overview of:<br />\n<br style="padding-top:0px\;" />\n<em><span style="padding-top: 0px\;">- Overview of Root Cause Analysis as a process<br style="padding-top:0px\;" />\n- Learn how Root Cause Analysis can pinpoint obstacles to success<br />\n- How to utilize a Cause-Effect process to maximize performance<br />\n- How to implement Cause-Effect thinking in the workplace to increase efficiency</span></em></span></span><br />\n&nbsp\;
LOCATION:SUNY Adirondack Northwest Bay Conference Center\, Adirondack Hall 640 Bay Road Queensbury\, NY 12804
UID:e.1842.1207
SEQUENCE:3
DTSTAMP:20260425T134630Z
URL:http://business.adirondackchamber.org/events/details/fixing-the-problem-not-the-symptoms-professional-development-seminar-1207
END:VEVENT

END:VCALENDAR
