BEGIN:VCALENDAR
VERSION:2.0
PRODID:-//ChamberMaster//Event Calendar 2.0//EN
METHOD:PUBLISH
X-PUBLISHED-TTL:P3D
REFRESH-INTERVAL:P3D
CALSCALE:GREGORIAN
BEGIN:VEVENT
DTSTART:20180131T130000Z
DTEND:20180131T170000Z
X-MICROSOFT-CDO-ALLDAYEVENT:FALSE
SUMMARY:First Aid/CPR/Bloodborne Pathogens Training
DESCRIPTION:First Aid/CPR/Bloodborne Pathogen Certification Training\n\nCall 518.623.2352 for more information.
X-ALT-DESC;FMTTYPE=text/html:<span style="font-family:calibri\,sans-serif\;"><span style="font-size:11.0pt\;">First Aid/CPR/Bloodborne Pathogen Certification Training<br />\nCall 518.623.2352 for more information.</span></span><br />\n&nbsp\;
LOCATION:Holiday Inn\, 2223 Canada Street/Route 9 Lake George\, NY 12845
UID:e.1842.1125
SEQUENCE:3
DTSTAMP:20260425T154408Z
URL:http://business.adirondackchamber.org/events/details/first-aid-cpr-bloodborne-pathogens-training-1125
END:VEVENT

END:VCALENDAR
