BEGIN:VCALENDAR
VERSION:2.0
PRODID:-//ChamberMaster//Event Calendar 2.0//EN
METHOD:PUBLISH
X-PUBLISHED-TTL:P3D
REFRESH-INTERVAL:P3D
CALSCALE:GREGORIAN
BEGIN:VEVENT
DTSTART:20180215T223000Z
DTEND:20180215T233000Z
X-MICROSOFT-CDO-ALLDAYEVENT:FALSE
SUMMARY:Family Love Letter - Family Financial Planning with a Heart
DESCRIPTION:Family financial planning with a heart! This practical\, sensitive workshop helps you face the difficult process of centralizing financial\, legal and personal information so family and friends can take care of you and know how you want to be taken care of.\n\n\n\nPresented by Jennette M. Tario\, MBA\n\nFinancial Planner\n\n\n\nLight snacks and refreshments will be available.
X-ALT-DESC;FMTTYPE=text/html:<span style="color:windowtext\;"><span style="font-size:11.0pt\;">Family financial planning with a heart! This practical\, sensitive workshop helps you face the difficult process of centralizing financial\, legal and personal information so family and friends can take care of you and know how you want to be taken care of.<br />\n<br />\nPresented by Jennette M. Tario\, MBA<br />\nFinancial Planner<br />\n<br />\nLight snacks and refreshments will be available.</span></span><br />\n&nbsp\;
LOCATION:Malta Community Center Multipurpose Room 1 Bayberry Drive Malta\, NY 12020
UID:e.1842.1134
SEQUENCE:3
DTSTAMP:20260425T135647Z
URL:http://business.adirondackchamber.org/events/details/family-love-letter-family-financial-planning-with-a-heart-1134
END:VEVENT

END:VCALENDAR
