BEGIN:VCALENDAR
VERSION:2.0
PRODID:-//ChamberMaster//Event Calendar 2.0//EN
METHOD:PUBLISH
X-PUBLISHED-TTL:P3D
REFRESH-INTERVAL:P3D
CALSCALE:GREGORIAN
BEGIN:VEVENT
DTSTART:20210609T150000Z
DTEND:20210617T160000Z
X-MICROSOFT-CDO-ALLDAYEVENT:FALSE
SUMMARY:EXPRESS PACKS ADVANCE SALE CLOSED - ARCC 2021 GOLF EVENT
DESCRIPTION:The pricing is as follows:\n\n \n\nExpress Pack   $40 (valued at $50):\n\n	20 raffle prize tickets\n	Putting Contest ticket\n	Mulligan\n	"Gimme Putt" ticket
X-ALT-DESC;FMTTYPE=text/html:<span style="font-family:verdana\;">The pricing is as follows:<br />\n&nbsp\;<br />\n<strong>Express Pack &ndash\; $40 (valued at $50):</strong></span>\n<ul>\n	<li><span style="font-family:verdana\;">20 raffle prize tickets</span></li>\n	<li><span style="font-family:verdana\;">Putting Contest ticket</span></li>\n	<li><span style="font-family:verdana\;">Mulligan</span></li>\n	<li><span style="font-family:verdana\;">&ldquo\;Gimme Putt&rdquo\; ticket</span></li>\n</ul>\n\n<div style="margin-left:0in\;"><br />\n<br />\n<br />\n&nbsp\;</div>\n
LOCATION:*******EXPRESS PACK ADVANCE SALE CLOSED******* Express Packs may be purchased at the Event- Cash Only Please! Express Pack Tickets are available now ONLY TO REGISTERED PARTICIPANTS of the ARCC GOLF OUTING ON JUNE 21\, 2021* *Advance Express Packs are available for purchase from June 9 - June 17 at noon. Payment for advance purchase is CREDIT CARD ONLY.
UID:e.1842.4124
SEQUENCE:3
DTSTAMP:20260420T200426Z
URL:http://business.adirondackchamber.org/events/details/express-packs-advance-sale-closed-arcc-2021-golf-event-4124
END:VEVENT

END:VCALENDAR
