BEGIN:VCALENDAR
VERSION:2.0
PRODID:-//ChamberMaster//Event Calendar 2.0//EN
METHOD:PUBLISH
X-PUBLISHED-TTL:P3D
REFRESH-INTERVAL:P3D
CALSCALE:GREGORIAN
BEGIN:VEVENT
DTSTART:20210129T150000Z
DTEND:20210129T163000Z
X-MICROSOFT-CDO-ALLDAYEVENT:FALSE
SUMMARY:Conversation with Your Legislators
DESCRIPTION:The ARCC is thrilled to be able to offer a virtual Conversation with Your Legislators in January 2021. Mark your calendars for Friday\, January 29\, 2021\, from 10:00 - 11:30 am for updates from your elected officials. The following will be in attendance:\n\n\n	Congresswoman Elise Stefanik\n	Senator Daphne Jordan\n	Senator Dan Stec\n	\n	Assemblyman Jake Ashby\n	\n	\n	Assemblywoman Carrie Woerner\n	\n	\n	Assemblyman Matt Simpson\n	\n\n\nWe hope you can join us for this moderated virtual conversation.
X-ALT-DESC;FMTTYPE=text/html:<div>The ARCC is thrilled to be able to offer a virtual Conversation with Your Legislators in January 2021. Mark your calendars for Friday\, January 29\, 2021\, from 10:00 - 11:30 am for updates from your elected officials. The following will be in attendance:</div>\n\n<ul>\n	<li>Congresswoman Elise Stefanik</li>\n	<li>Senator Daphne Jordan</li>\n	<li>Senator Dan Stec</li>\n	<li>\n	<div>Assemblyman Jake Ashby</div>\n	</li>\n	<li>\n	<div>Assemblywoman Carrie Woerner</div>\n	</li>\n	<li>\n	<div>Assemblyman Matt Simpson</div>\n	</li>\n</ul>\n\n<div><strong>We hope you can join us for this moderated virtual conversation. </strong><br />\n&nbsp\;</div>\n
LOCATION:Virtual via Zoom
UID:e.1842.4015
SEQUENCE:3
DTSTAMP:20260421T041233Z
URL:http://business.adirondackchamber.org/events/details/conversation-with-your-legislators-4015
END:VEVENT

END:VCALENDAR
